BEGIN:VCALENDAR
VERSION:2.0
PRODID:-//Kauno sporto mokykla Bangpūtys - ECPv6.14.2//NONSGML v1.0//EN
CALSCALE:GREGORIAN
METHOD:PUBLISH
X-WR-CALNAME:Kauno sporto mokykla Bangpūtys
X-ORIGINAL-URL:https://smbangputys.lt
X-WR-CALDESC:Kauno sporto mokykla Bangpūtys renginiai
REFRESH-INTERVAL;VALUE=DURATION:PT1H
X-Robots-Tag:noindex
X-PUBLISHED-TTL:PT1H
BEGIN:VTIMEZONE
TZID:UTC
BEGIN:STANDARD
TZOFFSETFROM:+0000
TZOFFSETTO:+0000
TZNAME:UTC
DTSTART:20250101T000000
END:STANDARD
END:VTIMEZONE
BEGIN:VEVENT
DTSTART;VALUE=DATE:20250811
DTEND;VALUE=DATE:20250815
DTSTAMP:20260420T205550
CREATED:20250619T112859Z
LAST-MODIFIED:20250619T112859Z
UID:3197-1754870400-1755215999@smbangputys.lt
SUMMARY:MTS prieš Atvirą Lietuvos U17 ir suaugusiųjų irklavimo čempionatą/ Atranka į „Baltic Cup“
DESCRIPTION:
URL:https://smbangputys.lt/renginiai/mts-pries-atvira-lietuvos-u17-ir-suaugusiuju-irklavimo-cempionata-atranka-i-baltic-cup/
LOCATION:Trakai
CATEGORIES:Akademinis irklavimas
END:VEVENT
END:VCALENDAR