BEGIN:VCALENDAR
VERSION:2.0
PRODID:-//Kauno sporto mokykla Bangpūtys - ECPv6.14.2//NONSGML v1.0//EN
CALSCALE:GREGORIAN
METHOD:PUBLISH
X-ORIGINAL-URL:https://smbangputys.lt
X-WR-CALDESC:Kauno sporto mokykla Bangpūtys renginiai
REFRESH-INTERVAL;VALUE=DURATION:PT1H
X-Robots-Tag:noindex
X-PUBLISHED-TTL:PT1H
BEGIN:VTIMEZONE
TZID:UTC
BEGIN:STANDARD
TZOFFSETFROM:+0000
TZOFFSETTO:+0000
TZNAME:UTC
DTSTART:20260101T000000
END:STANDARD
END:VTIMEZONE
BEGIN:VEVENT
DTSTART;VALUE=DATE:20260804
DTEND;VALUE=DATE:20260805
DTSTAMP:20260420T180829
CREATED:20260313T132431Z
LAST-MODIFIED:20260313T132431Z
UID:4475-1785801600-1785887999@smbangputys.lt
SUMMARY:Kauno miesto irklavimo vilčių varžybos
DESCRIPTION:
URL:https://smbangputys.lt/renginiai/kauno-miesto-irklavimo-vilciu-varzybos-2/
LOCATION:Gervių g. 5\, Kaunas\, Kaunas
CATEGORIES:Akademinis irklavimas
END:VEVENT
BEGIN:VEVENT
DTSTART;VALUE=DATE:20260804
DTEND;VALUE=DATE:20260806
DTSTAMP:20260420T180829
CREATED:20260313T132616Z
LAST-MODIFIED:20260313T132616Z
UID:4479-1785801600-1785974399@smbangputys.lt
SUMMARY:Paplūdimio sprinto atrankinė regata
DESCRIPTION:
URL:https://smbangputys.lt/renginiai/papludimio-sprinto-atrankine-regata/
LOCATION:Klaipėda\, Lietuva\, Lithuania
CATEGORIES:Akademinis irklavimas
END:VEVENT
END:VCALENDAR