BEGIN:VCALENDAR
VERSION:2.0
PRODID:-//Kauno sporto mokykla Bangpūtys - ECPv6.14.2//NONSGML v1.0//EN
CALSCALE:GREGORIAN
METHOD:PUBLISH
X-WR-CALNAME:Kauno sporto mokykla Bangpūtys
X-ORIGINAL-URL:https://smbangputys.lt
X-WR-CALDESC:Kauno sporto mokykla Bangpūtys renginiai
REFRESH-INTERVAL;VALUE=DURATION:PT1H
X-Robots-Tag:noindex
X-PUBLISHED-TTL:PT1H
BEGIN:VTIMEZONE
TZID:UTC
BEGIN:STANDARD
TZOFFSETFROM:+0000
TZOFFSETTO:+0000
TZNAME:UTC
DTSTART:20260101T000000
END:STANDARD
END:VTIMEZONE
BEGIN:VEVENT
DTSTART;VALUE=DATE:20261202
DTEND;VALUE=DATE:20261204
DTSTAMP:20260420T231206
CREATED:20260313T133447Z
LAST-MODIFIED:20260313T133447Z
UID:4497-1796169600-1796342399@smbangputys.lt
SUMMARY:Kauno miesto BFP varžybos
DESCRIPTION:
URL:https://smbangputys.lt/renginiai/kauno-miesto-bfp-varzybos/
LOCATION:Gervių g. 5\, Kaunas\, Kaunas
CATEGORIES:Akademinis irklavimas
END:VEVENT
END:VCALENDAR