BEGIN:VCALENDAR
VERSION:2.0
PRODID:-//Kauno sporto mokykla Bangpūtys - ECPv6.14.2//NONSGML v1.0//EN
CALSCALE:GREGORIAN
METHOD:PUBLISH
X-ORIGINAL-URL:https://smbangputys.lt
X-WR-CALDESC:Kauno sporto mokykla Bangpūtys renginiai
REFRESH-INTERVAL;VALUE=DURATION:PT1H
X-Robots-Tag:noindex
X-PUBLISHED-TTL:PT1H
BEGIN:VTIMEZONE
TZID:UTC
BEGIN:STANDARD
TZOFFSETFROM:+0000
TZOFFSETTO:+0000
TZNAME:UTC
DTSTART:20260101T000000
END:STANDARD
END:VTIMEZONE
BEGIN:VEVENT
DTSTART;VALUE=DATE:20260722
DTEND;VALUE=DATE:20260724
DTSTAMP:20260421T115326
CREATED:20260313T132246Z
LAST-MODIFIED:20260313T132246Z
UID:4470-1784678400-1784851199@smbangputys.lt
SUMMARY:Kauno miesto jaunimo irklavimo čempionatas
DESCRIPTION:
URL:https://smbangputys.lt/renginiai/kauno-miesto-jaunimo-irklavimo-cempionatas/
LOCATION:Gervių g. 5\, Kaunas\, Kaunas
CATEGORIES:Akademinis irklavimas
END:VEVENT
BEGIN:VEVENT
DTSTART;VALUE=DATE:20260725
DTEND;VALUE=DATE:20260727
DTSTAMP:20260421T115326
CREATED:20260313T132346Z
LAST-MODIFIED:20260313T132346Z
UID:4472-1784937600-1785110399@smbangputys.lt
SUMMARY:Lietuvos ir Baltijos šalių paplūdimio sprinto irklavimo čempionatas
DESCRIPTION:
URL:https://smbangputys.lt/renginiai/lietuvos-ir-baltijos-saliu-papludimio-sprinto-irklavimo-cempionatas-2/
LOCATION:Klaipėda\, Lietuva\, Lithuania
CATEGORIES:Akademinis irklavimas
END:VEVENT
BEGIN:VEVENT
DTSTART;VALUE=DATE:20260730
DTEND;VALUE=DATE:20260804
DTSTAMP:20260421T115326
CREATED:20260313T132523Z
LAST-MODIFIED:20260313T132523Z
UID:4477-1785369600-1785801599@smbangputys.lt
SUMMARY:MTS prieš atrankines į Pasaulio jaunimo pakrančių sprinto žaidynes
DESCRIPTION:
URL:https://smbangputys.lt/renginiai/mts-pries-atrankines-i-pasaulio-jaunimo-pakranciu-sprinto-zaidynes/
LOCATION:Klaipėda\, Lietuva\, Lithuania
CATEGORIES:Akademinis irklavimas
END:VEVENT
BEGIN:VEVENT
DTSTART;VALUE=DATE:20260804
DTEND;VALUE=DATE:20260805
DTSTAMP:20260421T115326
CREATED:20260313T132431Z
LAST-MODIFIED:20260313T132431Z
UID:4475-1785801600-1785887999@smbangputys.lt
SUMMARY:Kauno miesto irklavimo vilčių varžybos
DESCRIPTION:
URL:https://smbangputys.lt/renginiai/kauno-miesto-irklavimo-vilciu-varzybos-2/
LOCATION:Gervių g. 5\, Kaunas\, Kaunas
CATEGORIES:Akademinis irklavimas
END:VEVENT
BEGIN:VEVENT
DTSTART;VALUE=DATE:20260804
DTEND;VALUE=DATE:20260806
DTSTAMP:20260421T115326
CREATED:20260313T132616Z
LAST-MODIFIED:20260313T132616Z
UID:4479-1785801600-1785974399@smbangputys.lt
SUMMARY:Paplūdimio sprinto atrankinė regata
DESCRIPTION:
URL:https://smbangputys.lt/renginiai/papludimio-sprinto-atrankine-regata/
LOCATION:Klaipėda\, Lietuva\, Lithuania
CATEGORIES:Akademinis irklavimas
END:VEVENT
BEGIN:VEVENT
DTSTART;VALUE=DATE:20260806
DTEND;VALUE=DATE:20260808
DTSTAMP:20260421T115326
CREATED:20260313T132703Z
LAST-MODIFIED:20260313T132703Z
UID:4481-1785974400-1786147199@smbangputys.lt
SUMMARY:Kauno miesto irklavimo čempionatas
DESCRIPTION:
URL:https://smbangputys.lt/renginiai/kauno-miesto-irklavimo-cempionatas-2/
LOCATION:Gervių g. 5\, Kaunas\, Kaunas
CATEGORIES:Akademinis irklavimas
END:VEVENT
BEGIN:VEVENT
DTSTART;VALUE=DATE:20260810
DTEND;VALUE=DATE:20260814
DTSTAMP:20260421T115326
CREATED:20260313T132801Z
LAST-MODIFIED:20260313T132801Z
UID:4483-1786320000-1786665599@smbangputys.lt
SUMMARY:MTS prieš Atvirą Lietuvos U17 ir suaugusiųjų irklavimo čempionatą / atranka į „Baltic Cup“
DESCRIPTION:
URL:https://smbangputys.lt/renginiai/mts-pries-atvira-lietuvos-u17-ir-suaugusiuju-irklavimo-cempionata-atranka-i-baltic-cup-2/
LOCATION:Trakai\, Lietuva\, Lithuania
CATEGORIES:Akademinis irklavimas
END:VEVENT
BEGIN:VEVENT
DTSTART;VALUE=DATE:20260814
DTEND;VALUE=DATE:20260817
DTSTAMP:20260421T115326
CREATED:20260313T132858Z
LAST-MODIFIED:20260313T132904Z
UID:4485-1786665600-1786924799@smbangputys.lt
SUMMARY:Atviras Lietuvos U17 ir suaugusiųjų irklavimo čempionatas
DESCRIPTION:
URL:https://smbangputys.lt/renginiai/atviras-lietuvos-u17-ir-suaugusiuju-irklavimo-cempionatas-2/
LOCATION:Trakai\, Lietuva\, Lithuania
CATEGORIES:Akademinis irklavimas
END:VEVENT
BEGIN:VEVENT
DTSTART;VALUE=DATE:20260905
DTEND;VALUE=DATE:20260906
DTSTAMP:20260421T115326
CREATED:20260313T133009Z
LAST-MODIFIED:20260313T133009Z
UID:4487-1788566400-1788652799@smbangputys.lt
SUMMARY:LIF taurės III etapas ir 13-oji Kupiškio ilgo nuotolio regata
DESCRIPTION:
URL:https://smbangputys.lt/renginiai/lif-taures-iii-etapas-ir-13-oji-kupiskio-ilgo-nuotolio-regata/
LOCATION:Kupiškis\, Lietuva\, Lithuania
CATEGORIES:Akademinis irklavimas
END:VEVENT
BEGIN:VEVENT
DTSTART;VALUE=DATE:20260909
DTEND;VALUE=DATE:20260911
DTSTAMP:20260421T115326
CREATED:20260313T133049Z
LAST-MODIFIED:20260313T133114Z
UID:4489-1788912000-1789084799@smbangputys.lt
SUMMARY:Kauno sporto mokyklos „Bangpūtys“ irklavimo taurės varžybos
DESCRIPTION:
URL:https://smbangputys.lt/renginiai/kauno-sporto-mokyklos-bangputys-irklavimo-taures-varzybos-2/
LOCATION:Gervių g. 5\, Kaunas\, Kaunas
CATEGORIES:Akademinis irklavimas
END:VEVENT
BEGIN:VEVENT
DTSTART;VALUE=DATE:20260909
DTEND;VALUE=DATE:20260911
DTSTAMP:20260421T115326
CREATED:20260313T133204Z
LAST-MODIFIED:20260313T133204Z
UID:4491-1788912000-1789084799@smbangputys.lt
SUMMARY:Kauno miesto irklavimo sezono uždarymo varžybos
DESCRIPTION:
URL:https://smbangputys.lt/renginiai/kauno-miesto-irklavimo-sezono-uzdarymo-varzybos-2/
LOCATION:Gervių g. 5\, Kaunas\, Kaunas
CATEGORIES:Akademinis irklavimas
END:VEVENT
BEGIN:VEVENT
DTSTART;VALUE=DATE:20261003
DTEND;VALUE=DATE:20261004
DTSTAMP:20260421T115326
CREATED:20260313T133257Z
LAST-MODIFIED:20260313T133303Z
UID:4493-1790985600-1791071999@smbangputys.lt
SUMMARY:Birštono taurės irklavimo varžybos
DESCRIPTION:
URL:https://smbangputys.lt/renginiai/birstono-taures-irklavimo-varzybos-2/
LOCATION:Birštonas\, Lietuva\, Lithuania
CATEGORIES:Akademinis irklavimas
END:VEVENT
BEGIN:VEVENT
DTSTART;VALUE=DATE:20261114
DTEND;VALUE=DATE:20261115
DTSTAMP:20260421T115326
CREATED:20260313T133402Z
LAST-MODIFIED:20260313T133402Z
UID:4495-1794614400-1794700799@smbangputys.lt
SUMMARY:LIF regioninės uždarų patalpų jaunučių irklavimo varžybos
DESCRIPTION:
URL:https://smbangputys.lt/renginiai/lif-regionines-uzdaru-patalpu-jaunuciu-irklavimo-varzybos-2/
LOCATION:Trakai\, Lietuva\, Lithuania
CATEGORIES:Akademinis irklavimas
END:VEVENT
BEGIN:VEVENT
DTSTART;VALUE=DATE:20261202
DTEND;VALUE=DATE:20261204
DTSTAMP:20260421T115326
CREATED:20260313T133447Z
LAST-MODIFIED:20260313T133447Z
UID:4497-1796169600-1796342399@smbangputys.lt
SUMMARY:Kauno miesto BFP varžybos
DESCRIPTION:
URL:https://smbangputys.lt/renginiai/kauno-miesto-bfp-varzybos/
LOCATION:Gervių g. 5\, Kaunas\, Kaunas
CATEGORIES:Akademinis irklavimas
END:VEVENT
BEGIN:VEVENT
DTSTART;VALUE=DATE:20261212
DTEND;VALUE=DATE:20261213
DTSTAMP:20260421T115326
CREATED:20260313T133532Z
LAST-MODIFIED:20260313T133552Z
UID:4499-1797033600-1797119999@smbangputys.lt
SUMMARY:Atviras Lietuvos uždarų patalpų irklavimo čempionatas
DESCRIPTION:
URL:https://smbangputys.lt/renginiai/atviras-lietuvos-uzdaru-patalpu-irklavimo-cempionatas-2/
LOCATION:Vilnius
CATEGORIES:Akademinis irklavimas
END:VEVENT
END:VCALENDAR