BEGIN:VCALENDAR
VERSION:2.0
PRODID:-//Kauno sporto mokykla Bangpūtys - ECPv6.14.2//NONSGML v1.0//EN
CALSCALE:GREGORIAN
METHOD:PUBLISH
X-WR-CALNAME:Kauno sporto mokykla Bangpūtys
X-ORIGINAL-URL:https://smbangputys.lt
X-WR-CALDESC:Kauno sporto mokykla Bangpūtys renginiai
REFRESH-INTERVAL;VALUE=DURATION:PT1H
X-Robots-Tag:noindex
X-PUBLISHED-TTL:PT1H
BEGIN:VTIMEZONE
TZID:UTC
BEGIN:STANDARD
TZOFFSETFROM:+0000
TZOFFSETTO:+0000
TZNAME:UTC
DTSTART:20260101T000000
END:STANDARD
END:VTIMEZONE
BEGIN:VEVENT
DTSTART;VALUE=DATE:20260208
DTEND;VALUE=DATE:20260209
DTSTAMP:20260419T152434
CREATED:20260313T091850Z
LAST-MODIFIED:20260313T091850Z
UID:4383-1770508800-1770595199@smbangputys.lt
SUMMARY:Lietuvos BKI BFP čempionatas
DESCRIPTION:
URL:https://smbangputys.lt/renginiai/lietuvos-bki-bfp-cempionatas/
LOCATION:Kaunas
CATEGORIES:Baidarių ir kanojų irklavimas
END:VEVENT
END:VCALENDAR