BEGIN:VCALENDAR
VERSION:2.0
PRODID:-//Kauno sporto mokykla Bangpūtys - ECPv6.14.2//NONSGML v1.0//EN
CALSCALE:GREGORIAN
METHOD:PUBLISH
X-WR-CALNAME:Kauno sporto mokykla Bangpūtys
X-ORIGINAL-URL:https://smbangputys.lt
X-WR-CALDESC:Kauno sporto mokykla Bangpūtys renginiai
REFRESH-INTERVAL;VALUE=DURATION:PT1H
X-Robots-Tag:noindex
X-PUBLISHED-TTL:PT1H
BEGIN:VTIMEZONE
TZID:UTC
BEGIN:STANDARD
TZOFFSETFROM:+0000
TZOFFSETTO:+0000
TZNAME:UTC
DTSTART:20260101T000000
END:STANDARD
END:VTIMEZONE
BEGIN:VEVENT
DTSTART;VALUE=DATE:20260424
DTEND;VALUE=DATE:20260427
DTSTAMP:20260419T170217
CREATED:20260313T093833Z
LAST-MODIFIED:20260313T093833Z
UID:4393-1776988800-1777247999@smbangputys.lt
SUMMARY:Lietuvos taurės 1 etapas / D. ir Z. Survutų memorialas
DESCRIPTION:
URL:https://smbangputys.lt/renginiai/lietuvos-taures-1-etapas-d-ir-z-survutu-memorialas/
LOCATION:Trakai\, Lietuva\, Lithuania
CATEGORIES:Baidarių ir kanojų irklavimas
END:VEVENT
END:VCALENDAR