BEGIN:VCALENDAR
VERSION:2.0
PRODID:-//Kauno sporto mokykla Bangpūtys - ECPv6.14.2//NONSGML v1.0//EN
CALSCALE:GREGORIAN
METHOD:PUBLISH
X-WR-CALNAME:Kauno sporto mokykla Bangpūtys
X-ORIGINAL-URL:https://smbangputys.lt
X-WR-CALDESC:Kauno sporto mokykla Bangpūtys renginiai
REFRESH-INTERVAL;VALUE=DURATION:PT1H
X-Robots-Tag:noindex
X-PUBLISHED-TTL:PT1H
BEGIN:VTIMEZONE
TZID:UTC
BEGIN:STANDARD
TZOFFSETFROM:+0000
TZOFFSETTO:+0000
TZNAME:UTC
DTSTART:20260101T000000
END:STANDARD
END:VTIMEZONE
BEGIN:VEVENT
DTSTART;VALUE=DATE:20260926
DTEND;VALUE=DATE:20260927
DTSTAMP:20260420T011107
CREATED:20260313T121748Z
LAST-MODIFIED:20260313T121748Z
UID:4427-1790380800-1790467199@smbangputys.lt
SUMMARY:Kauno miesto ilgų nuotolių čempionatas
DESCRIPTION:
URL:https://smbangputys.lt/renginiai/kauno-miesto-ilgu-nuotoliu-cempionatas-2/
LOCATION:Gervių g. 5\, Kaunas\, Kaunas
CATEGORIES:Baidarių ir kanojų irklavimas
END:VEVENT
END:VCALENDAR