BEGIN:VCALENDAR
VERSION:2.0
PRODID:-//Kauno sporto mokykla Bangpūtys - ECPv6.14.2//NONSGML v1.0//EN
CALSCALE:GREGORIAN
METHOD:PUBLISH
X-ORIGINAL-URL:https://smbangputys.lt
X-WR-CALDESC:Kauno sporto mokykla Bangpūtys renginiai
REFRESH-INTERVAL;VALUE=DURATION:PT1H
X-Robots-Tag:noindex
X-PUBLISHED-TTL:PT1H
BEGIN:VTIMEZONE
TZID:UTC
BEGIN:STANDARD
TZOFFSETFROM:+0000
TZOFFSETTO:+0000
TZNAME:UTC
DTSTART:20260101T000000
END:STANDARD
END:VTIMEZONE
BEGIN:VEVENT
DTSTART;VALUE=DATE:20260627
DTEND;VALUE=DATE:20260704
DTSTAMP:20260420T211438
CREATED:20260312T115633Z
LAST-MODIFIED:20260312T115633Z
UID:4313-1782518400-1783123199@smbangputys.lt
SUMMARY:ILCA MTS ir Gdynios Taurė
DESCRIPTION:
URL:https://smbangputys.lt/renginiai/ilca-mts-ir-gdynios-taure/
LOCATION:Gdynia\, Lenkija\, Poland
CATEGORIES:Buriavimas
END:VEVENT
BEGIN:VEVENT
DTSTART;VALUE=DATE:20260629
DTEND;VALUE=DATE:20260705
DTSTAMP:20260420T211438
CREATED:20260312T120038Z
LAST-MODIFIED:20260312T120038Z
UID:4318-1782691200-1783209599@smbangputys.lt
SUMMARY:Burlenčių MTS
DESCRIPTION:
URL:https://smbangputys.lt/renginiai/burlenciu-mts/
LOCATION:Kintai\, Lietuva\, Lithuania
CATEGORIES:Buriavimas
END:VEVENT
BEGIN:VEVENT
DTSTART;VALUE=DATE:20260701
DTEND;VALUE=DATE:20260706
DTSTAMP:20260420T211438
CREATED:20260312T120148Z
LAST-MODIFIED:20260312T120148Z
UID:4321-1782864000-1783295999@smbangputys.lt
SUMMARY:Down town Sailing week / Baltic sea Trophy
DESCRIPTION:
URL:https://smbangputys.lt/renginiai/down-town-sailing-week-baltic-sea-trophy/
LOCATION:Helsinkis\, Suomija\, Finland
CATEGORIES:Buriavimas
END:VEVENT
BEGIN:VEVENT
DTSTART;VALUE=DATE:20260704
DTEND;VALUE=DATE:20260706
DTSTAMP:20260420T211438
CREATED:20260312T120432Z
LAST-MODIFIED:20260312T120432Z
UID:4325-1783123200-1783295999@smbangputys.lt
SUMMARY:XX Dusios regata
DESCRIPTION:
URL:https://smbangputys.lt/renginiai/xx-dusios-regata/
LOCATION:Dusia\, Lithuania
CATEGORIES:Buriavimas
END:VEVENT
BEGIN:VEVENT
DTSTART;VALUE=DATE:20260706
DTEND;VALUE=DATE:20260712
DTSTAMP:20260420T211438
CREATED:20260312T120729Z
LAST-MODIFIED:20260312T120729Z
UID:4331-1783296000-1783814399@smbangputys.lt
SUMMARY:Burlenčių MTS
DESCRIPTION:
URL:https://smbangputys.lt/renginiai/burlenciu-mts-2/
LOCATION:Kintai\, Lietuva\, Lithuania
CATEGORIES:Buriavimas
END:VEVENT
BEGIN:VEVENT
DTSTART;VALUE=DATE:20260711
DTEND;VALUE=DATE:20260713
DTSTAMP:20260420T211438
CREATED:20260312T120545Z
LAST-MODIFIED:20260312T120545Z
UID:4328-1783728000-1783900799@smbangputys.lt
SUMMARY:Tarptautinė Rėkyvos regata / O. Truchano taurė
DESCRIPTION:
URL:https://smbangputys.lt/renginiai/tarptautine-rekyvos-regata-o-truchano-taure/
LOCATION:Šiauliai\, Lietuva\, Lithuania
CATEGORIES:Buriavimas
END:VEVENT
BEGIN:VEVENT
DTSTART;VALUE=DATE:20260713
DTEND;VALUE=DATE:20260714
DTSTAMP:20260420T211438
CREATED:20260312T121137Z
LAST-MODIFIED:20260312T121212Z
UID:4333-1783900800-1783987199@smbangputys.lt
SUMMARY:Kauno miesto vaikų buriavimo taurė (I etapas)
DESCRIPTION:Varžybų nuostatai
URL:https://smbangputys.lt/renginiai/kauno-miesto-vaiku-buriavimo-taure-i-e/
LOCATION:R. Kalantos 130\, Kaunas\, Lithuania
CATEGORIES:Buriavimas
END:VEVENT
BEGIN:VEVENT
DTSTART;VALUE=DATE:20260714
DTEND;VALUE=DATE:20260717
DTSTAMP:20260420T211438
CREATED:20260312T121327Z
LAST-MODIFIED:20260312T121327Z
UID:4336-1783987200-1784246399@smbangputys.lt
SUMMARY:Kauno miesto jaunių buriavimo čempionatas
DESCRIPTION:Varžybų nuostatai
URL:https://smbangputys.lt/renginiai/kauno-miesto-jauniu-buriavimo-cempionatas/
LOCATION:R. Kalantos 130\, Kaunas\, Lithuania
CATEGORIES:Buriavimas
END:VEVENT
BEGIN:VEVENT
DTSTART;VALUE=DATE:20260716
DTEND;VALUE=DATE:20260720
DTSTAMP:20260420T211438
CREATED:20260312T121457Z
LAST-MODIFIED:20260312T121457Z
UID:4338-1784160000-1784505599@smbangputys.lt
SUMMARY:49 Spinaker regatta
DESCRIPTION:
URL:https://smbangputys.lt/renginiai/49-spinaker-regatta/
LOCATION:Talinas\, Estija\, Estonia
CATEGORIES:Buriavimas
END:VEVENT
BEGIN:VEVENT
DTSTART;VALUE=DATE:20260720
DTEND;VALUE=DATE:20260729
DTSTAMP:20260420T211438
CREATED:20260312T133953Z
LAST-MODIFIED:20260312T133953Z
UID:4341-1784505600-1785283199@smbangputys.lt
SUMMARY:ILCA MTS
DESCRIPTION:
URL:https://smbangputys.lt/renginiai/ilca-mts/
LOCATION:Talinas\, Estija\, Estonia
CATEGORIES:Buriavimas
END:VEVENT
BEGIN:VEVENT
DTSTART;VALUE=DATE:20260731
DTEND;VALUE=DATE:20260803
DTSTAMP:20260420T211438
CREATED:20260312T134038Z
LAST-MODIFIED:20260312T134038Z
UID:4343-1785456000-1785715199@smbangputys.lt
SUMMARY:„Baltic CUP Estonia“ burlenčių varžybos
DESCRIPTION:
URL:https://smbangputys.lt/renginiai/baltic-cup-estonia-burlenciu-varzybos/
LOCATION:Talinas\, Estija\, Estonia
CATEGORIES:Buriavimas
END:VEVENT
END:VCALENDAR