BEGIN:VCALENDAR
VERSION:2.0
PRODID:-//Kauno sporto mokykla Bangpūtys - ECPv6.14.2//NONSGML v1.0//EN
CALSCALE:GREGORIAN
METHOD:PUBLISH
X-WR-CALNAME:Kauno sporto mokykla Bangpūtys
X-ORIGINAL-URL:https://smbangputys.lt
X-WR-CALDESC:Kauno sporto mokykla Bangpūtys renginiai
REFRESH-INTERVAL;VALUE=DURATION:PT1H
X-Robots-Tag:noindex
X-PUBLISHED-TTL:PT1H
BEGIN:VTIMEZONE
TZID:UTC
BEGIN:STANDARD
TZOFFSETFROM:+0000
TZOFFSETTO:+0000
TZNAME:UTC
DTSTART:20260101T000000
END:STANDARD
END:VTIMEZONE
BEGIN:VEVENT
DTSTART;VALUE=DATE:20261001
DTEND;VALUE=DATE:20261005
DTSTAMP:20260421T021928
CREATED:20260312T135712Z
LAST-MODIFIED:20260312T135712Z
UID:4378-1790812800-1791158399@smbangputys.lt
SUMMARY:35-oji Tarptautinė „Rudens vėjo“ regata 2026
DESCRIPTION:
URL:https://smbangputys.lt/renginiai/35-oji-tarptautine-rudens-vejo-regata-2026/
LOCATION:R. Kalantos 130\, Kaunas\, Lithuania
CATEGORIES:Buriavimas
END:VEVENT
BEGIN:VEVENT
DTSTART;VALUE=DATE:20261024
DTEND;VALUE=DATE:20261025
DTSTAMP:20260421T021928
CREATED:20260312T135803Z
LAST-MODIFIED:20260312T135803Z
UID:4380-1792800000-1792886399@smbangputys.lt
SUMMARY:Buriavimo sezono uždarymo varžybos
DESCRIPTION:
URL:https://smbangputys.lt/renginiai/buriavimo-sezono-uzdarymo-varzybos-2/
LOCATION:R. Kalantos 130\, Kaunas\, Lithuania
CATEGORIES:Buriavimas
END:VEVENT
END:VCALENDAR