BEGIN:VCALENDAR
VERSION:2.0
PRODID:-//Kauno sporto mokykla Bangpūtys - ECPv6.14.2//NONSGML v1.0//EN
CALSCALE:GREGORIAN
METHOD:PUBLISH
X-WR-CALNAME:Kauno sporto mokykla Bangpūtys
X-ORIGINAL-URL:https://smbangputys.lt
X-WR-CALDESC:Kauno sporto mokykla Bangpūtys renginiai
REFRESH-INTERVAL;VALUE=DURATION:PT1H
X-Robots-Tag:noindex
X-PUBLISHED-TTL:PT1H
BEGIN:VTIMEZONE
TZID:UTC
BEGIN:STANDARD
TZOFFSETFROM:+0000
TZOFFSETTO:+0000
TZNAME:UTC
DTSTART:20250101T000000
END:STANDARD
END:VTIMEZONE
BEGIN:VEVENT
DTSTART;VALUE=DATE:20250818
DTEND;VALUE=DATE:20250824
DTSTAMP:20260420T203007
CREATED:20250722T111500Z
LAST-MODIFIED:20250722T111500Z
UID:3497-1755475200-1755993599@smbangputys.lt
SUMMARY:ILCA mokomųjų treniruočių stovykla
DESCRIPTION:
URL:https://smbangputys.lt/renginiai/ilca-mokomuju-treniruociu-stovykla/
CATEGORIES:Buriavimas
END:VEVENT
BEGIN:VEVENT
DTSTART;TZID=UTC:20250821T080000
DTEND;TZID=UTC:20250824T170000
DTSTAMP:20260420T203007
CREATED:20250722T111540Z
LAST-MODIFIED:20250722T111540Z
UID:3499-1755763200-1756054800@smbangputys.lt
SUMMARY:LR vaikų buriavimo čempionatas
DESCRIPTION:
URL:https://smbangputys.lt/renginiai/lr-vaiku-buriavimo-cempionatas/
CATEGORIES:Buriavimas
END:VEVENT
BEGIN:VEVENT
DTSTART;TZID=UTC:20250822T080000
DTEND;TZID=UTC:20250825T170000
DTSTAMP:20260420T203007
CREATED:20250722T111620Z
LAST-MODIFIED:20250722T111620Z
UID:3501-1755849600-1756141200@smbangputys.lt
SUMMARY:LR vaikų ir jaunučių burlenčių čempionatas
DESCRIPTION:
URL:https://smbangputys.lt/renginiai/lr-vaiku-ir-jaunuciu-burlenciu-cempionatas/
CATEGORIES:Buriavimas
END:VEVENT
END:VCALENDAR