BEGIN:VCALENDAR
VERSION:2.0
PRODID:-//Kauno sporto mokykla Bangpūtys - ECPv6.14.2//NONSGML v1.0//EN
CALSCALE:GREGORIAN
METHOD:PUBLISH
X-WR-CALNAME:Kauno sporto mokykla Bangpūtys
X-ORIGINAL-URL:https://smbangputys.lt
X-WR-CALDESC:Kauno sporto mokykla Bangpūtys renginiai
REFRESH-INTERVAL;VALUE=DURATION:PT1H
X-Robots-Tag:noindex
X-PUBLISHED-TTL:PT1H
BEGIN:VTIMEZONE
TZID:UTC
BEGIN:STANDARD
TZOFFSETFROM:+0000
TZOFFSETTO:+0000
TZNAME:UTC
DTSTART:20260101T000000
END:STANDARD
END:VTIMEZONE
BEGIN:VEVENT
DTSTART;VALUE=DATE:20260131
DTEND;VALUE=DATE:20260201
DTSTAMP:20260420T113945
CREATED:20260312T092803Z
LAST-MODIFIED:20260312T092803Z
UID:4254-1769817600-1769903999@smbangputys.lt
SUMMARY:KSM „Bangpūtys“ buriuotojų BFP taurės varžybos (1 etapas)
DESCRIPTION:Varžybų nuostatai
URL:https://smbangputys.lt/renginiai/ksm-bangputys-buriuotoju-bfp-taures-varzybos-1-etapas-2/
CATEGORIES:Buriavimas
END:VEVENT
END:VCALENDAR