BEGIN:VCALENDAR
VERSION:2.0
PRODID:-//Kauno sporto mokykla Bangpūtys - ECPv6.14.2//NONSGML v1.0//EN
CALSCALE:GREGORIAN
METHOD:PUBLISH
X-ORIGINAL-URL:https://smbangputys.lt
X-WR-CALDESC:Kauno sporto mokykla Bangpūtys renginiai
REFRESH-INTERVAL;VALUE=DURATION:PT1H
X-Robots-Tag:noindex
X-PUBLISHED-TTL:PT1H
BEGIN:VTIMEZONE
TZID:UTC
BEGIN:STANDARD
TZOFFSETFROM:+0000
TZOFFSETTO:+0000
TZNAME:UTC
DTSTART:20260101T000000
END:STANDARD
END:VTIMEZONE
BEGIN:VEVENT
DTSTART;VALUE=DATE:20260425
DTEND;VALUE=DATE:20260504
DTSTAMP:20260420T163404
CREATED:20260312T093933Z
LAST-MODIFIED:20260312T093933Z
UID:4264-1777075200-1777852799@smbangputys.lt
SUMMARY:MTS ir 34-oji LOJKBA taurė / Baltic sea Trophy
DESCRIPTION:Daugiau apie varžybas
URL:https://smbangputys.lt/renginiai/mts-ir-34-oji-lojkba-taure-baltic-sea-trophy/
LOCATION:Nida
CATEGORIES:Buriavimas
END:VEVENT
BEGIN:VEVENT
DTSTART;VALUE=DATE:20260501
DTEND;VALUE=DATE:20260504
DTSTAMP:20260420T163404
CREATED:20260312T094207Z
LAST-MODIFIED:20260312T094207Z
UID:4267-1777593600-1777852799@smbangputys.lt
SUMMARY:Burių paradas – dviviečių jachtų čempionatas
DESCRIPTION:
URL:https://smbangputys.lt/renginiai/buriu-paradas-dvivieciu-jachtu-cempionatas/
LOCATION:Elektrėnai
CATEGORIES:Buriavimas
END:VEVENT
END:VCALENDAR