BEGIN:VCALENDAR
VERSION:2.0
PRODID:-//Kauno sporto mokykla Bangpūtys - ECPv6.14.2//NONSGML v1.0//EN
CALSCALE:GREGORIAN
METHOD:PUBLISH
X-WR-CALNAME:Kauno sporto mokykla Bangpūtys
X-ORIGINAL-URL:https://smbangputys.lt
X-WR-CALDESC:Kauno sporto mokykla Bangpūtys renginiai
REFRESH-INTERVAL;VALUE=DURATION:PT1H
X-Robots-Tag:noindex
X-PUBLISHED-TTL:PT1H
BEGIN:VTIMEZONE
TZID:UTC
BEGIN:STANDARD
TZOFFSETFROM:+0000
TZOFFSETTO:+0000
TZNAME:UTC
DTSTART:20260101T000000
END:STANDARD
END:VTIMEZONE
BEGIN:VEVENT
DTSTART;VALUE=DATE:20260508
DTEND;VALUE=DATE:20260511
DTSTAMP:20260420T194026
CREATED:20260312T094644Z
LAST-MODIFIED:20260312T094644Z
UID:4272-1778198400-1778457599@smbangputys.lt
SUMMARY:„RS Feva“ čempionatas
DESCRIPTION:
URL:https://smbangputys.lt/renginiai/rs-feva-cempionatas/
LOCATION:Nida
CATEGORIES:Buriavimas
END:VEVENT
END:VCALENDAR