BEGIN:VCALENDAR
VERSION:2.0
PRODID:-//Kauno sporto mokykla Bangpūtys - ECPv6.14.2//NONSGML v1.0//EN
CALSCALE:GREGORIAN
METHOD:PUBLISH
X-ORIGINAL-URL:https://smbangputys.lt
X-WR-CALDESC:Kauno sporto mokykla Bangpūtys renginiai
REFRESH-INTERVAL;VALUE=DURATION:PT1H
X-Robots-Tag:noindex
X-PUBLISHED-TTL:PT1H
BEGIN:VTIMEZONE
TZID:UTC
BEGIN:STANDARD
TZOFFSETFROM:+0000
TZOFFSETTO:+0000
TZNAME:UTC
DTSTART:20260101T000000
END:STANDARD
END:VTIMEZONE
BEGIN:VEVENT
DTSTART;TZID=UTC:20260609T080000
DTEND;TZID=UTC:20260614T170000
DTSTAMP:20260420T211910
CREATED:20260312T114717Z
LAST-MODIFIED:20260312T114717Z
UID:4295-1780992000-1781456400@smbangputys.lt
SUMMARY:„Kuivižu CUP“ / Baltic sea Trophy
DESCRIPTION:
URL:https://smbangputys.lt/renginiai/kuivizu-cup-baltic-sea-trophy/
LOCATION:Kuiviži\, Latvija\, Latvia
CATEGORIES:Buriavimas
END:VEVENT
BEGIN:VEVENT
DTSTART;VALUE=DATE:20260611
DTEND;VALUE=DATE:20260615
DTSTAMP:20260420T211910
CREATED:20260312T114832Z
LAST-MODIFIED:20260312T114832Z
UID:4298-1781136000-1781481599@smbangputys.lt
SUMMARY:Kuivižu CUP / Latvijos buriavimo čempionatas
DESCRIPTION:
URL:https://smbangputys.lt/renginiai/kuivizu-cup-latvijos-buriavimo-cempionatas/
LOCATION:Kuiviži\, Latvija\, Latvia
CATEGORIES:Buriavimas
END:VEVENT
BEGIN:VEVENT
DTSTART;VALUE=DATE:20260612
DTEND;VALUE=DATE:20260615
DTSTAMP:20260420T211910
CREATED:20260312T115041Z
LAST-MODIFIED:20260312T115041Z
UID:4300-1781222400-1781481599@smbangputys.lt
SUMMARY:Trijų žuvų taurė
DESCRIPTION:
URL:https://smbangputys.lt/renginiai/triju-zuvu-taure/
LOCATION:Gižyckas\, Lenkija\, Poland
CATEGORIES:Buriavimas
END:VEVENT
END:VCALENDAR