BEGIN:VCALENDAR
VERSION:2.0
PRODID:-//Kauno sporto mokykla Bangpūtys - ECPv6.14.2//NONSGML v1.0//EN
CALSCALE:GREGORIAN
METHOD:PUBLISH
X-WR-CALNAME:Kauno sporto mokykla Bangpūtys
X-ORIGINAL-URL:https://smbangputys.lt
X-WR-CALDESC:Kauno sporto mokykla Bangpūtys renginiai
REFRESH-INTERVAL;VALUE=DURATION:PT1H
X-Robots-Tag:noindex
X-PUBLISHED-TTL:PT1H
BEGIN:VTIMEZONE
TZID:UTC
BEGIN:STANDARD
TZOFFSETFROM:+0000
TZOFFSETTO:+0000
TZNAME:UTC
DTSTART:20250101T000000
END:STANDARD
END:VTIMEZONE
BEGIN:VEVENT
DTSTART;VALUE=DATE:20251203
DTEND;VALUE=DATE:20251205
DTSTAMP:20260422T012036
CREATED:20250619T113716Z
LAST-MODIFIED:20250619T113716Z
UID:3220-1764720000-1764892799@smbangputys.lt
SUMMARY:Kauno miesto bendro fizinio pasiruošimo varžybos
DESCRIPTION:
URL:https://smbangputys.lt/renginiai/kauno-miesto-bendro-fizinio-pasiruosimo-varzybos/
LOCATION:Gervių g. 5\, Kaunas\, Kaunas
CATEGORIES:Akademinis irklavimas
END:VEVENT
BEGIN:VEVENT
DTSTART;VALUE=DATE:20251108
DTEND;VALUE=DATE:20251109
DTSTAMP:20260422T012036
CREATED:20250619T113619Z
LAST-MODIFIED:20250619T113619Z
UID:3218-1762560000-1762646399@smbangputys.lt
SUMMARY:LIF regioninės uždarų patalpų jaunučių irklavimo varžybos
DESCRIPTION:
URL:https://smbangputys.lt/renginiai/lif-regionines-uzdaru-patalpu-jaunuciu-irklavimo-varzybos/
LOCATION:Trakai
CATEGORIES:Akademinis irklavimas
END:VEVENT
BEGIN:VEVENT
DTSTART;VALUE=DATE:20251029
DTEND;VALUE=DATE:20251102
DTSTAMP:20260422T012036
CREATED:20250722T112828Z
LAST-MODIFIED:20250722T112828Z
UID:3527-1761696000-1762041599@smbangputys.lt
SUMMARY:Halloween Regatta
DESCRIPTION:
URL:https://smbangputys.lt/renginiai/halloween-regatta/
CATEGORIES:Buriavimas
END:VEVENT
BEGIN:VEVENT
DTSTART;VALUE=DATE:20251017
DTEND;VALUE=DATE:20251019
DTSTAMP:20260422T012036
CREATED:20250722T112739Z
LAST-MODIFIED:20250722T112739Z
UID:3525-1760659200-1760831999@smbangputys.lt
SUMMARY:Buriavimo sezono uždarymo varžybos
DESCRIPTION:
URL:https://smbangputys.lt/renginiai/buriavimo-sezono-uzdarymo-varzybos/
CATEGORIES:Buriavimas
END:VEVENT
BEGIN:VEVENT
DTSTART;VALUE=DATE:20251014
DTEND;VALUE=DATE:20251028
DTSTAMP:20260422T012036
CREATED:20250722T112650Z
LAST-MODIFIED:20250722T112650Z
UID:3523-1760400000-1761609599@smbangputys.lt
SUMMARY:MTS ir 2025 ILCA 7 U21 EČ
DESCRIPTION:
URL:https://smbangputys.lt/renginiai/mts-ir-2025-ilca-7-u21-ec/
CATEGORIES:Buriavimas
END:VEVENT
BEGIN:VEVENT
DTSTART;VALUE=DATE:20251010
DTEND;VALUE=DATE:20251013
DTSTAMP:20260422T012036
CREATED:20250619T113530Z
LAST-MODIFIED:20250619T113530Z
UID:3216-1760054400-1760313599@smbangputys.lt
SUMMARY:Tarptautinė 57-oji Danės regata
DESCRIPTION:
URL:https://smbangputys.lt/renginiai/tarptautine-57-oji-danes-regata/
LOCATION:Klaipėda
CATEGORIES:Akademinis irklavimas
END:VEVENT
BEGIN:VEVENT
DTSTART;VALUE=DATE:20251010
DTEND;VALUE=DATE:20251011
DTSTAMP:20260422T012036
CREATED:20250619T115301Z
LAST-MODIFIED:20250619T115301Z
UID:3249-1760054400-1760140799@smbangputys.lt
SUMMARY:Kauno miesto ilgų nuotolių čempionatas
DESCRIPTION:
URL:https://smbangputys.lt/renginiai/kauno-miesto-ilgu-nuotoliu-cempionatas/
LOCATION:Gervių g. 5\, Kaunas\, Kaunas
CATEGORIES:Baidarių ir kanojų irklavimas
END:VEVENT
BEGIN:VEVENT
DTSTART;VALUE=DATE:20251008
DTEND;VALUE=DATE:20251009
DTSTAMP:20260422T012036
CREATED:20250619T113446Z
LAST-MODIFIED:20250619T113446Z
UID:3214-1759881600-1759967999@smbangputys.lt
SUMMARY:Kauno miesto irklavimo sezono uždarymo varžybos
DESCRIPTION:
URL:https://smbangputys.lt/renginiai/kauno-miesto-irklavimo-sezono-uzdarymo-varzybos/
LOCATION:Gervių g. 5\, Kaunas\, Kaunas
CATEGORIES:Akademinis irklavimas
END:VEVENT
BEGIN:VEVENT
DTSTART;VALUE=DATE:20251004
DTEND;VALUE=DATE:20251005
DTSTAMP:20260422T012036
CREATED:20250619T113351Z
LAST-MODIFIED:20250619T113351Z
UID:3211-1759536000-1759622399@smbangputys.lt
SUMMARY:Birštono taurės irklavimo varžybos
DESCRIPTION:
URL:https://smbangputys.lt/renginiai/birstono-taures-irklavimo-varzybos/
LOCATION:Birštonas
CATEGORIES:Akademinis irklavimas
END:VEVENT
BEGIN:VEVENT
DTSTART;TZID=UTC:20251002T080000
DTEND;TZID=UTC:20251005T170000
DTSTAMP:20260422T012036
CREATED:20250722T112552Z
LAST-MODIFIED:20250722T112552Z
UID:3521-1759392000-1759683600@smbangputys.lt
SUMMARY:34 tarptautinė buriavimo regata „Rudens vėjas 2025“
DESCRIPTION:
URL:https://smbangputys.lt/renginiai/34-tarptautine-buriavimo-regata-rudens-vejas-2025/
CATEGORIES:Buriavimas
END:VEVENT
BEGIN:VEVENT
DTSTART;VALUE=DATE:20250927
DTEND;VALUE=DATE:20250929
DTSTAMP:20260422T012036
CREATED:20250722T112504Z
LAST-MODIFIED:20250722T112504Z
UID:3519-1758931200-1759103999@smbangputys.lt
SUMMARY:Mrangovo buriavimo taurė
DESCRIPTION:
URL:https://smbangputys.lt/renginiai/mrangovo-buriavimo-taure/
CATEGORIES:Buriavimas
END:VEVENT
BEGIN:VEVENT
DTSTART;VALUE=DATE:20250918
DTEND;VALUE=DATE:20250922
DTSTAMP:20260422T012036
CREATED:20250722T112419Z
LAST-MODIFIED:20250722T112419Z
UID:3517-1758153600-1758499199@smbangputys.lt
SUMMARY:Lenkijos Optimist j/k čempionatas
DESCRIPTION:
URL:https://smbangputys.lt/renginiai/lenkijos-optimist-j-k-cempionatas/
CATEGORIES:Buriavimas
END:VEVENT
BEGIN:VEVENT
DTSTART;VALUE=DATE:20250918
DTEND;VALUE=DATE:20250922
DTSTAMP:20260422T012036
CREATED:20250619T115155Z
LAST-MODIFIED:20250619T115155Z
UID:3246-1758153600-1758499199@smbangputys.lt
SUMMARY:„Olympic Hopes“ regata
DESCRIPTION:
URL:https://smbangputys.lt/renginiai/olympic-hopes-regata/
LOCATION:Račica\, Čekija
CATEGORIES:Baidarių ir kanojų irklavimas
END:VEVENT
BEGIN:VEVENT
DTSTART;VALUE=DATE:20250913
DTEND;VALUE=DATE:20250915
DTSTAMP:20260422T012036
CREATED:20250619T115000Z
LAST-MODIFIED:20250619T115000Z
UID:3244-1757721600-1757894399@smbangputys.lt
SUMMARY:Lietuvos jaunučių čempionatas/ Lietuvos taurė – rudens etapas
DESCRIPTION:
URL:https://smbangputys.lt/renginiai/lietuvos-jaunuciu-cempionatas-lietuvos-taure-rudens-etapas/
LOCATION:Šiauliai
CATEGORIES:Baidarių ir kanojų irklavimas
END:VEVENT
BEGIN:VEVENT
DTSTART;VALUE=DATE:20250910
DTEND;VALUE=DATE:20250914
DTSTAMP:20260422T012036
CREATED:20250722T112320Z
LAST-MODIFIED:20250722T112320Z
UID:3515-1757462400-1757807999@smbangputys.lt
SUMMARY:LR suaugusiųjų ir jaunių burlenčių čempionatas
DESCRIPTION:
URL:https://smbangputys.lt/renginiai/lr-suaugusiuju-ir-jauniu-burlenciu-cempionatas/
CATEGORIES:Buriavimas
END:VEVENT
BEGIN:VEVENT
DTSTART;VALUE=DATE:20250910
DTEND;VALUE=DATE:20250914
DTSTAMP:20260422T012036
CREATED:20250722T112220Z
LAST-MODIFIED:20250722T112220Z
UID:3513-1757462400-1757807999@smbangputys.lt
SUMMARY:LR suaugusiųjų ir jaunių buriavimo čempionatas
DESCRIPTION:
URL:https://smbangputys.lt/renginiai/lr-suaugusiuju-ir-jauniu-buriavimo-cempionatas/
CATEGORIES:Buriavimas
END:VEVENT
BEGIN:VEVENT
DTSTART;VALUE=DATE:20250910
DTEND;VALUE=DATE:20250911
DTSTAMP:20260422T012036
CREATED:20250619T113258Z
LAST-MODIFIED:20250619T113258Z
UID:3209-1757462400-1757548799@smbangputys.lt
SUMMARY:Kauno sporto mokyklos „Bangpūtys“ irklavimo taurės varžybos
DESCRIPTION:
URL:https://smbangputys.lt/renginiai/kauno-sporto-mokyklos-bangputys-irklavimo-taures-varzybos/
LOCATION:Gervių g. 5\, Kaunas\, Kaunas
CATEGORIES:Akademinis irklavimas
END:VEVENT
BEGIN:VEVENT
DTSTART;VALUE=DATE:20250908
DTEND;VALUE=DATE:20250914
DTSTAMP:20260422T012036
CREATED:20250722T112108Z
LAST-MODIFIED:20250722T112108Z
UID:3511-1757289600-1757807999@smbangputys.lt
SUMMARY:ILCA j/k MTS ir LR buriavimo čempionatas
DESCRIPTION:
URL:https://smbangputys.lt/renginiai/ilca-j-k-mts-ir-lr-buriavimo-cempionatas/
CATEGORIES:Buriavimas
END:VEVENT
BEGIN:VEVENT
DTSTART;VALUE=DATE:20250908
DTEND;VALUE=DATE:20250909
DTSTAMP:20260422T012036
CREATED:20250619T114906Z
LAST-MODIFIED:20250619T114906Z
UID:3242-1757289600-1757375999@smbangputys.lt
SUMMARY:Kauno miesto vaikų varžybos „Olimpinės viltys“
DESCRIPTION:
URL:https://smbangputys.lt/renginiai/kauno-miesto-vaiku-varzybos-olimpines-viltys/
CATEGORIES:Baidarių ir kanojų irklavimas
END:VEVENT
BEGIN:VEVENT
DTSTART;VALUE=DATE:20250906
DTEND;VALUE=DATE:20250907
DTSTAMP:20260422T012036
CREATED:20250722T112010Z
LAST-MODIFIED:20250722T112010Z
UID:3509-1757116800-1757203199@smbangputys.lt
SUMMARY:Kauno miesto vaikų buriavimo taurė (III etapas)
DESCRIPTION:
URL:https://smbangputys.lt/renginiai/kauno-miesto-vaiku-buriavimo-taure-iii-etapas/
CATEGORIES:Buriavimas
END:VEVENT
BEGIN:VEVENT
DTSTART;VALUE=DATE:20250906
DTEND;VALUE=DATE:20250907
DTSTAMP:20260422T012036
CREATED:20250619T113214Z
LAST-MODIFIED:20250619T113214Z
UID:3206-1757116800-1757203199@smbangputys.lt
SUMMARY:LIF taurės III etapas ir Kupiškio ilgo nuotolio regata
DESCRIPTION:
URL:https://smbangputys.lt/renginiai/lif-taures-iii-etapas-ir-kupiskio-ilgo-nuotolio-regata/
LOCATION:Kupiškis
CATEGORIES:Akademinis irklavimas
END:VEVENT
BEGIN:VEVENT
DTSTART;VALUE=DATE:20250905
DTEND;VALUE=DATE:20250907
DTSTAMP:20260422T012036
CREATED:20250619T114717Z
LAST-MODIFIED:20250619T114717Z
UID:3240-1757030400-1757203199@smbangputys.lt
SUMMARY:Kauno miesto jaunučių baidarių ir kanojų irklavimo čempionatas
DESCRIPTION:
URL:https://smbangputys.lt/renginiai/kauno-miesto-jaunuciu-baidariu-ir-kanoju-irklavimo-cempionatas/
LOCATION:Gervių g. 5\, Kaunas\, Kaunas
CATEGORIES:Baidarių ir kanojų irklavimas
END:VEVENT
BEGIN:VEVENT
DTSTART;VALUE=DATE:20250903
DTEND;VALUE=DATE:20250904
DTSTAMP:20260422T012036
CREATED:20250619T113131Z
LAST-MODIFIED:20250619T113131Z
UID:3204-1756857600-1756943999@smbangputys.lt
SUMMARY:Kauno miesto jaunučių  irklavimo čempionatas
DESCRIPTION:
URL:https://smbangputys.lt/renginiai/kauno-miesto-jaunuciu-irklavimo-cempionatas/
LOCATION:Gervių g. 5\, Kaunas\, Kaunas
CATEGORIES:Akademinis irklavimas
END:VEVENT
BEGIN:VEVENT
DTSTART;VALUE=DATE:20250830
DTEND;VALUE=DATE:20250831
DTSTAMP:20260422T012036
CREATED:20250619T114623Z
LAST-MODIFIED:20250619T114623Z
UID:3238-1756512000-1756598399@smbangputys.lt
SUMMARY:Lietuvos vaikų baidarių ir kanojų irklavimo čempionatas
DESCRIPTION:
URL:https://smbangputys.lt/renginiai/lietuvos-vaiku-baidariu-ir-kanoju-irklavimo-cempionatas/
LOCATION:Šiauliai
CATEGORIES:Baidarių ir kanojų irklavimas
END:VEVENT
BEGIN:VEVENT
DTSTART;TZID=UTC:20250828T080000
DTEND;TZID=UTC:20250901T170000
DTSTAMP:20260422T012036
CREATED:20250722T111923Z
LAST-MODIFIED:20250722T111923Z
UID:3507-1756368000-1756746000@smbangputys.lt
SUMMARY:ILCA Pucko taurė
DESCRIPTION:
URL:https://smbangputys.lt/renginiai/ilca-pucko-taure/
CATEGORIES:Buriavimas
END:VEVENT
BEGIN:VEVENT
DTSTART;TZID=UTC:20250828T080000
DTEND;TZID=UTC:20250831T170000
DTSTAMP:20260422T012036
CREATED:20250722T111816Z
LAST-MODIFIED:20250722T111833Z
UID:3505-1756368000-1756659600@smbangputys.lt
SUMMARY:Baltic Cup Final LV burlenčių varžybos
DESCRIPTION:
URL:https://smbangputys.lt/renginiai/baltic-cup-final-lv-burlenciu-varzybos/
CATEGORIES:Buriavimas
END:VEVENT
BEGIN:VEVENT
DTSTART;TZID=UTC:20250826T080000
DTEND;TZID=UTC:20250827T170000
DTSTAMP:20260422T012036
CREATED:20250722T111706Z
LAST-MODIFIED:20250722T111706Z
UID:3503-1756195200-1756314000@smbangputys.lt
SUMMARY:Burlenčių mokomųjų treniruočių stovykla
DESCRIPTION:
URL:https://smbangputys.lt/renginiai/burlenciu-mokomuju-treniruociu-stovykla/
CATEGORIES:Buriavimas
END:VEVENT
BEGIN:VEVENT
DTSTART;VALUE=DATE:20250823
DTEND;VALUE=DATE:20250825
DTSTAMP:20260422T012036
CREATED:20250619T113044Z
LAST-MODIFIED:20250619T113044Z
UID:3201-1755907200-1756079999@smbangputys.lt
SUMMARY:Lietuvos ir Baltijos šalių paplūdimio sprinto irklavimo čempionatas
DESCRIPTION:
URL:https://smbangputys.lt/renginiai/lietuvos-ir-baltijos-saliu-papludimio-sprinto-irklavimo-cempionatas/
LOCATION:Klaipėda
CATEGORIES:Akademinis irklavimas
END:VEVENT
BEGIN:VEVENT
DTSTART;TZID=UTC:20250822T080000
DTEND;TZID=UTC:20250825T170000
DTSTAMP:20260422T012036
CREATED:20250722T111620Z
LAST-MODIFIED:20250722T111620Z
UID:3501-1755849600-1756141200@smbangputys.lt
SUMMARY:LR vaikų ir jaunučių burlenčių čempionatas
DESCRIPTION:
URL:https://smbangputys.lt/renginiai/lr-vaiku-ir-jaunuciu-burlenciu-cempionatas/
CATEGORIES:Buriavimas
END:VEVENT
BEGIN:VEVENT
DTSTART;VALUE=DATE:20250822
DTEND;VALUE=DATE:20250823
DTSTAMP:20260422T012036
CREATED:20250619T114541Z
LAST-MODIFIED:20250619T114541Z
UID:3236-1755820800-1755907199@smbangputys.lt
SUMMARY:Kauno miesto vaikų baidarių ir kanojų irklavimo čempionatas
DESCRIPTION:
URL:https://smbangputys.lt/renginiai/kauno-miesto-vaiku-baidariu-ir-kanoju-irklavimo-cempionatas/
LOCATION:Gervių g. 5\, Kaunas\, Kaunas
CATEGORIES:Baidarių ir kanojų irklavimas
END:VEVENT
END:VCALENDAR