BEGIN:VCALENDAR
VERSION:2.0
PRODID:-//Kauno sporto mokykla Bangpūtys - ECPv6.14.2//NONSGML v1.0//EN
CALSCALE:GREGORIAN
METHOD:PUBLISH
X-ORIGINAL-URL:https://smbangputys.lt
X-WR-CALDESC:Kauno sporto mokykla Bangpūtys renginiai
REFRESH-INTERVAL;VALUE=DURATION:PT1H
X-Robots-Tag:noindex
X-PUBLISHED-TTL:PT1H
BEGIN:VTIMEZONE
TZID:UTC
BEGIN:STANDARD
TZOFFSETFROM:+0000
TZOFFSETTO:+0000
TZNAME:UTC
DTSTART:20260101T000000
END:STANDARD
END:VTIMEZONE
BEGIN:VEVENT
DTSTART;VALUE=DATE:20260720
DTEND;VALUE=DATE:20260729
DTSTAMP:20260421T183348
CREATED:20260312T133953Z
LAST-MODIFIED:20260312T133953Z
UID:4341-1784505600-1785283199@smbangputys.lt
SUMMARY:ILCA MTS
DESCRIPTION:
URL:https://smbangputys.lt/renginiai/ilca-mts/
LOCATION:Talinas\, Estija\, Estonia
CATEGORIES:Buriavimas
END:VEVENT
BEGIN:VEVENT
DTSTART;VALUE=DATE:20260730
DTEND;VALUE=DATE:20260804
DTSTAMP:20260421T183348
CREATED:20260313T132523Z
LAST-MODIFIED:20260313T132523Z
UID:4477-1785369600-1785801599@smbangputys.lt
SUMMARY:MTS prieš atrankines į Pasaulio jaunimo pakrančių sprinto žaidynes
DESCRIPTION:
URL:https://smbangputys.lt/renginiai/mts-pries-atrankines-i-pasaulio-jaunimo-pakranciu-sprinto-zaidynes/
LOCATION:Klaipėda\, Lietuva\, Lithuania
CATEGORIES:Akademinis irklavimas
END:VEVENT
BEGIN:VEVENT
DTSTART;VALUE=DATE:20260731
DTEND;VALUE=DATE:20260803
DTSTAMP:20260421T183348
CREATED:20260312T134038Z
LAST-MODIFIED:20260312T134038Z
UID:4343-1785456000-1785715199@smbangputys.lt
SUMMARY:„Baltic CUP Estonia“ burlenčių varžybos
DESCRIPTION:
URL:https://smbangputys.lt/renginiai/baltic-cup-estonia-burlenciu-varzybos/
LOCATION:Talinas\, Estija\, Estonia
CATEGORIES:Buriavimas
END:VEVENT
BEGIN:VEVENT
DTSTART;VALUE=DATE:20260731
DTEND;VALUE=DATE:20260803
DTSTAMP:20260421T183348
CREATED:20260313T120730Z
LAST-MODIFIED:20260313T120849Z
UID:4410-1785456000-1785715199@smbangputys.lt
SUMMARY:Lietuvos BKI čempionatas
DESCRIPTION:
URL:https://smbangputys.lt/renginiai/lietuvos-bki-cempionatas/
LOCATION:Trakai\, Lietuva\, Lithuania
CATEGORIES:Baidarių ir kanojų irklavimas
END:VEVENT
BEGIN:VEVENT
DTSTART;VALUE=DATE:20260801
DTEND;VALUE=DATE:20260803
DTSTAMP:20260421T183348
CREATED:20260312T134205Z
LAST-MODIFIED:20260312T134205Z
UID:4345-1785542400-1785715199@smbangputys.lt
SUMMARY:14-oji Palūšės buriavimo regata
DESCRIPTION:
URL:https://smbangputys.lt/renginiai/14-oji-paluses-buriavimo-regata-2/
LOCATION:Palūšė\, Lietuva\, Lithuania
CATEGORIES:Buriavimas
END:VEVENT
BEGIN:VEVENT
DTSTART;VALUE=DATE:20260804
DTEND;VALUE=DATE:20260805
DTSTAMP:20260421T183348
CREATED:20260313T132431Z
LAST-MODIFIED:20260313T132431Z
UID:4475-1785801600-1785887999@smbangputys.lt
SUMMARY:Kauno miesto irklavimo vilčių varžybos
DESCRIPTION:
URL:https://smbangputys.lt/renginiai/kauno-miesto-irklavimo-vilciu-varzybos-2/
LOCATION:Gervių g. 5\, Kaunas\, Kaunas
CATEGORIES:Akademinis irklavimas
END:VEVENT
BEGIN:VEVENT
DTSTART;VALUE=DATE:20260804
DTEND;VALUE=DATE:20260806
DTSTAMP:20260421T183348
CREATED:20260313T132616Z
LAST-MODIFIED:20260313T132616Z
UID:4479-1785801600-1785974399@smbangputys.lt
SUMMARY:Paplūdimio sprinto atrankinė regata
DESCRIPTION:
URL:https://smbangputys.lt/renginiai/papludimio-sprinto-atrankine-regata/
LOCATION:Klaipėda\, Lietuva\, Lithuania
CATEGORIES:Akademinis irklavimas
END:VEVENT
BEGIN:VEVENT
DTSTART;VALUE=DATE:20260805
DTEND;VALUE=DATE:20260806
DTSTAMP:20260421T183348
CREATED:20260313T120933Z
LAST-MODIFIED:20260313T120933Z
UID:4414-1785888000-1785974399@smbangputys.lt
SUMMARY:Kauno miesto vaikų čempionatas
DESCRIPTION:
URL:https://smbangputys.lt/renginiai/kauno-miesto-vaiku-cempionatas/
LOCATION:Gervių g. 5\, Kaunas\, Kaunas
CATEGORIES:Baidarių ir kanojų irklavimas
END:VEVENT
BEGIN:VEVENT
DTSTART;VALUE=DATE:20260806
DTEND;VALUE=DATE:20260808
DTSTAMP:20260421T183348
CREATED:20260313T132703Z
LAST-MODIFIED:20260313T132703Z
UID:4481-1785974400-1786147199@smbangputys.lt
SUMMARY:Kauno miesto irklavimo čempionatas
DESCRIPTION:
URL:https://smbangputys.lt/renginiai/kauno-miesto-irklavimo-cempionatas-2/
LOCATION:Gervių g. 5\, Kaunas\, Kaunas
CATEGORIES:Akademinis irklavimas
END:VEVENT
BEGIN:VEVENT
DTSTART;VALUE=DATE:20260808
DTEND;VALUE=DATE:20260810
DTSTAMP:20260421T183348
CREATED:20260312T134303Z
LAST-MODIFIED:20260312T134303Z
UID:4348-1786147200-1786319999@smbangputys.lt
SUMMARY:„Team Racing“ buriavimo čempionatas
DESCRIPTION:
URL:https://smbangputys.lt/renginiai/team-racing-buriavimo-cempionatas/
LOCATION:Elektrėnai
CATEGORIES:Buriavimas
END:VEVENT
BEGIN:VEVENT
DTSTART;VALUE=DATE:20260808
DTEND;VALUE=DATE:20260810
DTSTAMP:20260421T183348
CREATED:20260313T120816Z
LAST-MODIFIED:20260313T120816Z
UID:4412-1786147200-1786319999@smbangputys.lt
SUMMARY:Galvės regata
DESCRIPTION:
URL:https://smbangputys.lt/renginiai/galves-regata/
LOCATION:Trakai\, Lietuva\, Lithuania
CATEGORIES:Baidarių ir kanojų irklavimas
END:VEVENT
BEGIN:VEVENT
DTSTART;VALUE=DATE:20260810
DTEND;VALUE=DATE:20260814
DTSTAMP:20260421T183348
CREATED:20260313T132801Z
LAST-MODIFIED:20260313T132801Z
UID:4483-1786320000-1786665599@smbangputys.lt
SUMMARY:MTS prieš Atvirą Lietuvos U17 ir suaugusiųjų irklavimo čempionatą / atranka į „Baltic Cup“
DESCRIPTION:
URL:https://smbangputys.lt/renginiai/mts-pries-atvira-lietuvos-u17-ir-suaugusiuju-irklavimo-cempionata-atranka-i-baltic-cup-2/
LOCATION:Trakai\, Lietuva\, Lithuania
CATEGORIES:Akademinis irklavimas
END:VEVENT
BEGIN:VEVENT
DTSTART;VALUE=DATE:20260813
DTEND;VALUE=DATE:20260816
DTSTAMP:20260421T183348
CREATED:20260312T134426Z
LAST-MODIFIED:20260312T134426Z
UID:4350-1786579200-1786838399@smbangputys.lt
SUMMARY:XXII Limarko buriavimo taurė
DESCRIPTION:
URL:https://smbangputys.lt/renginiai/xxii-limarko-buriavimo-taure/
LOCATION:Dreverna\, Lietuva\, Lithuania
CATEGORIES:Buriavimas
END:VEVENT
BEGIN:VEVENT
DTSTART;VALUE=DATE:20260814
DTEND;VALUE=DATE:20260817
DTSTAMP:20260421T183348
CREATED:20260313T132858Z
LAST-MODIFIED:20260313T132904Z
UID:4485-1786665600-1786924799@smbangputys.lt
SUMMARY:Atviras Lietuvos U17 ir suaugusiųjų irklavimo čempionatas
DESCRIPTION:
URL:https://smbangputys.lt/renginiai/atviras-lietuvos-u17-ir-suaugusiuju-irklavimo-cempionatas-2/
LOCATION:Trakai\, Lietuva\, Lithuania
CATEGORIES:Akademinis irklavimas
END:VEVENT
BEGIN:VEVENT
DTSTART;VALUE=DATE:20260816
DTEND;VALUE=DATE:20260822
DTSTAMP:20260421T183348
CREATED:20260312T134520Z
LAST-MODIFIED:20260312T134520Z
UID:4353-1786838400-1787356799@smbangputys.lt
SUMMARY:ILCA MTS
DESCRIPTION:
URL:https://smbangputys.lt/renginiai/ilca-mts-2/
LOCATION:Nida\, Lietuva\, Lithuania
CATEGORIES:Buriavimas
END:VEVENT
BEGIN:VEVENT
DTSTART;VALUE=DATE:20260817
DTEND;VALUE=DATE:20260818
DTSTAMP:20260421T183348
CREATED:20260312T134609Z
LAST-MODIFIED:20260312T134609Z
UID:4356-1786924800-1787011199@smbangputys.lt
SUMMARY:Kauno miesto vaikų buriavimo taurė (2 etapas)
DESCRIPTION:
URL:https://smbangputys.lt/renginiai/kauno-miesto-vaiku-buriavimo-taure-2-etapas/
LOCATION:R. Kalantos 130\, Kaunas\, Lithuania
CATEGORIES:Buriavimas
END:VEVENT
BEGIN:VEVENT
DTSTART;VALUE=DATE:20260818
DTEND;VALUE=DATE:20260821
DTSTAMP:20260421T183348
CREATED:20260312T134654Z
LAST-MODIFIED:20260312T134654Z
UID:4358-1787011200-1787270399@smbangputys.lt
SUMMARY:Kauno miesto buriavimo čempionatas
DESCRIPTION:
URL:https://smbangputys.lt/renginiai/kauno-miesto-buriavimo-cempionatas-2/
LOCATION:R. Kalantos 130\, Kaunas\, Lithuania
CATEGORIES:Buriavimas
END:VEVENT
BEGIN:VEVENT
DTSTART;VALUE=DATE:20260819
DTEND;VALUE=DATE:20260821
DTSTAMP:20260421T183348
CREATED:20260313T121027Z
LAST-MODIFIED:20260313T121027Z
UID:4416-1787097600-1787270399@smbangputys.lt
SUMMARY:Lietuvos vaikų čempionatas – jaunučių taurė
DESCRIPTION:
URL:https://smbangputys.lt/renginiai/lietuvos-vaiku-cempionatas-jaunuciu-taure/
LOCATION:Šiauliai\, Lietuva\, Lithuania
CATEGORIES:Baidarių ir kanojų irklavimas
END:VEVENT
BEGIN:VEVENT
DTSTART;VALUE=DATE:20260824
DTEND;VALUE=DATE:20260830
DTSTAMP:20260421T183348
CREATED:20260312T134803Z
LAST-MODIFIED:20260312T134803Z
UID:4360-1787529600-1788047999@smbangputys.lt
SUMMARY:„Optimist“ MTS ir 40-oji „Optimist“ jachtų klasės Platelių regata
DESCRIPTION:
URL:https://smbangputys.lt/renginiai/optimist-mts-ir-40-oji-optimist-jachtu-klases-plateliu-regata/
LOCATION:Plateliai\, Lietuva\, Lithuania
CATEGORIES:Buriavimas
END:VEVENT
BEGIN:VEVENT
DTSTART;VALUE=DATE:20260826
DTEND;VALUE=DATE:20260827
DTSTAMP:20260421T183348
CREATED:20260313T121136Z
LAST-MODIFIED:20260313T121136Z
UID:4418-1787702400-1787788799@smbangputys.lt
SUMMARY:Kauno miesto vaikų varžybos „Olimpinės viltys“
DESCRIPTION:
URL:https://smbangputys.lt/renginiai/kauno-miesto-vaiku-varzybos-olimpines-viltys-2/
LOCATION:Gervių g. 5\, Kaunas\, Kaunas
CATEGORIES:Baidarių ir kanojų irklavimas
END:VEVENT
BEGIN:VEVENT
DTSTART;VALUE=DATE:20260827
DTEND;VALUE=DATE:20260831
DTSTAMP:20260421T183348
CREATED:20260312T134856Z
LAST-MODIFIED:20260312T134856Z
UID:4363-1787788800-1788134399@smbangputys.lt
SUMMARY:„Baltic CUP Final LV“ burlenčių varžybos
DESCRIPTION:
URL:https://smbangputys.lt/renginiai/baltic-cup-final-lv-burlenciu-varzybos-2/
LOCATION:Liepoja\, Latvija\, Latvia
CATEGORIES:Buriavimas
END:VEVENT
BEGIN:VEVENT
DTSTART;VALUE=DATE:20260904
DTEND;VALUE=DATE:20260906
DTSTAMP:20260421T183348
CREATED:20260313T121240Z
LAST-MODIFIED:20260313T121240Z
UID:4420-1788480000-1788652799@smbangputys.lt
SUMMARY:Kauno miesto jaunių\, jaunučių ir vaikų pirmenybės
DESCRIPTION:
URL:https://smbangputys.lt/renginiai/kauno-miesto-jauniu-jaunuciu-ir-vaiku-pirmenybes/
LOCATION:Gervių g. 5\, Kaunas\, Kaunas
CATEGORIES:Baidarių ir kanojų irklavimas
END:VEVENT
BEGIN:VEVENT
DTSTART;VALUE=DATE:20260905
DTEND;VALUE=DATE:20260906
DTSTAMP:20260421T183348
CREATED:20260313T133009Z
LAST-MODIFIED:20260313T133009Z
UID:4487-1788566400-1788652799@smbangputys.lt
SUMMARY:LIF taurės III etapas ir 13-oji Kupiškio ilgo nuotolio regata
DESCRIPTION:
URL:https://smbangputys.lt/renginiai/lif-taures-iii-etapas-ir-13-oji-kupiskio-ilgo-nuotolio-regata/
LOCATION:Kupiškis\, Lietuva\, Lithuania
CATEGORIES:Akademinis irklavimas
END:VEVENT
BEGIN:VEVENT
DTSTART;VALUE=DATE:20260907
DTEND;VALUE=DATE:20260913
DTSTAMP:20260421T183348
CREATED:20260312T135018Z
LAST-MODIFIED:20260312T135018Z
UID:4366-1788739200-1789257599@smbangputys.lt
SUMMARY:ILCA MTS ir LR buriavimo čempionatas
DESCRIPTION:
URL:https://smbangputys.lt/renginiai/ilca-mts-ir-lr-buriavimo-cempionatas/
LOCATION:Nida\, Lietuva\, Lithuania
CATEGORIES:Buriavimas
END:VEVENT
BEGIN:VEVENT
DTSTART;VALUE=DATE:20260909
DTEND;VALUE=DATE:20260911
DTSTAMP:20260421T183348
CREATED:20260313T133049Z
LAST-MODIFIED:20260313T133114Z
UID:4489-1788912000-1789084799@smbangputys.lt
SUMMARY:Kauno sporto mokyklos „Bangpūtys“ irklavimo taurės varžybos
DESCRIPTION:
URL:https://smbangputys.lt/renginiai/kauno-sporto-mokyklos-bangputys-irklavimo-taures-varzybos-2/
LOCATION:Gervių g. 5\, Kaunas\, Kaunas
CATEGORIES:Akademinis irklavimas
END:VEVENT
BEGIN:VEVENT
DTSTART;VALUE=DATE:20260909
DTEND;VALUE=DATE:20260911
DTSTAMP:20260421T183348
CREATED:20260313T133204Z
LAST-MODIFIED:20260313T133204Z
UID:4491-1788912000-1789084799@smbangputys.lt
SUMMARY:Kauno miesto irklavimo sezono uždarymo varžybos
DESCRIPTION:
URL:https://smbangputys.lt/renginiai/kauno-miesto-irklavimo-sezono-uzdarymo-varzybos-2/
LOCATION:Gervių g. 5\, Kaunas\, Kaunas
CATEGORIES:Akademinis irklavimas
END:VEVENT
BEGIN:VEVENT
DTSTART;VALUE=DATE:20260909
DTEND;VALUE=DATE:20260913
DTSTAMP:20260421T183348
CREATED:20260312T135059Z
LAST-MODIFIED:20260312T135059Z
UID:4368-1788912000-1789257599@smbangputys.lt
SUMMARY:Lietuvos Respublikos suaugusiųjų ir jaunių buriavimo čempionatas
DESCRIPTION:
URL:https://smbangputys.lt/renginiai/lietuvos-respublikos-suaugusiuju-ir-jauniu-buriavimo-cempionatas/
LOCATION:Nida\, Lietuva\, Lithuania
CATEGORIES:Buriavimas
END:VEVENT
BEGIN:VEVENT
DTSTART;VALUE=DATE:20260911
DTEND;VALUE=DATE:20260914
DTSTAMP:20260421T183348
CREATED:20260313T121324Z
LAST-MODIFIED:20260313T121341Z
UID:4422-1789084800-1789343999@smbangputys.lt
SUMMARY:Lietuvos mokinių čempionatas\, Lietuvos taurė – rudens etapas
DESCRIPTION:
URL:https://smbangputys.lt/renginiai/lietuvos-mokiniu-cempionatas-lietuvos-taure-rudens-etapas/
LOCATION:Šiauliai\, Lietuva\, Lithuania
CATEGORIES:Baidarių ir kanojų irklavimas
END:VEVENT
BEGIN:VEVENT
DTSTART;VALUE=DATE:20260916
DTEND;VALUE=DATE:20260917
DTSTAMP:20260421T183348
CREATED:20260312T135223Z
LAST-MODIFIED:20260312T135223Z
UID:4370-1789516800-1789603199@smbangputys.lt
SUMMARY:Kauno miesto vaikų buriavimo taurė (3 etapas)
DESCRIPTION:Varžybų nuostatai
URL:https://smbangputys.lt/renginiai/kauno-miesto-vaiku-buriavimo-taure-3-etapas/
LOCATION:R. Kalantos 130\, Kaunas\, Lithuania
CATEGORIES:Buriavimas
END:VEVENT
BEGIN:VEVENT
DTSTART;VALUE=DATE:20260916
DTEND;VALUE=DATE:20260922
DTSTAMP:20260421T183348
CREATED:20260312T135502Z
LAST-MODIFIED:20260312T135502Z
UID:4372-1789516800-1790035199@smbangputys.lt
SUMMARY:Lenkijos „Optimist“ jachtų klasės čempionatas
DESCRIPTION:
URL:https://smbangputys.lt/renginiai/lenkijos-optimist-jachtu-klases-cempionatas/
LOCATION:Dziwnow\, Lenkija\, Poland
CATEGORIES:Buriavimas
END:VEVENT
END:VCALENDAR