BEGIN:VCALENDAR
VERSION:2.0
PRODID:-//Kauno sporto mokykla Bangpūtys - ECPv6.14.2//NONSGML v1.0//EN
CALSCALE:GREGORIAN
METHOD:PUBLISH
X-WR-CALNAME:Kauno sporto mokykla Bangpūtys
X-ORIGINAL-URL:https://smbangputys.lt
X-WR-CALDESC:Kauno sporto mokykla Bangpūtys renginiai
REFRESH-INTERVAL;VALUE=DURATION:PT1H
X-Robots-Tag:noindex
X-PUBLISHED-TTL:PT1H
BEGIN:VTIMEZONE
TZID:UTC
BEGIN:STANDARD
TZOFFSETFROM:+0000
TZOFFSETTO:+0000
TZNAME:UTC
DTSTART:20260101T000000
END:STANDARD
END:VTIMEZONE
BEGIN:VEVENT
DTSTART;VALUE=DATE:20260613
DTEND;VALUE=DATE:20260614
DTSTAMP:20260421T212553
CREATED:20260313T122953Z
LAST-MODIFIED:20260313T122953Z
UID:4455-1781308800-1781395199@smbangputys.lt
SUMMARY:LIF Taurės II etapas ir Tarptautinė „Salduvės“ irklavimo regata
DESCRIPTION:
URL:https://smbangputys.lt/renginiai/lif-taures-ii-etapas-ir-tarptautine-salduves-irklavimo-regata/
LOCATION:Šiauliai\, Lietuva\, Lithuania
CATEGORIES:Akademinis irklavimas
END:VEVENT
BEGIN:VEVENT
DTSTART;VALUE=DATE:20260617
DTEND;VALUE=DATE:20260619
DTSTAMP:20260421T212553
CREATED:20260313T094310Z
LAST-MODIFIED:20260313T094310Z
UID:4402-1781654400-1781827199@smbangputys.lt
SUMMARY:Kauno sporto mokyklos „Bangpūtys“ jaunių ir jaunučių taurė
DESCRIPTION:
URL:https://smbangputys.lt/renginiai/kauno-sporto-mokyklos-bangputys-jauniu-ir-jaunuciu-taure/
LOCATION:Gervių g. 5\, Kaunas\, Kaunas
CATEGORIES:Baidarių ir kanojų irklavimas
END:VEVENT
BEGIN:VEVENT
DTSTART;VALUE=DATE:20260618
DTEND;VALUE=DATE:20260619
DTSTAMP:20260421T212553
CREATED:20260313T123041Z
LAST-MODIFIED:20260313T123212Z
UID:4457-1781740800-1781827199@smbangputys.lt
SUMMARY:MTS prieš U19 ir U23 atrankinę regatą į PČ
DESCRIPTION:
URL:https://smbangputys.lt/renginiai/mts-pries-u19-ir-u23-atrankine-regata-i-pc/
LOCATION:Trakai\, Lietuva\, Lithuania
CATEGORIES:Akademinis irklavimas
END:VEVENT
BEGIN:VEVENT
DTSTART;VALUE=DATE:20260618
DTEND;VALUE=DATE:20260621
DTSTAMP:20260421T212553
CREATED:20260312T115222Z
LAST-MODIFIED:20260312T115222Z
UID:4303-1781740800-1781999999@smbangputys.lt
SUMMARY:Kauno marių regata 2026
DESCRIPTION:Varžybų nuostatai
URL:https://smbangputys.lt/renginiai/kauno-mariu-regata-2026/
LOCATION:R. Kalantos 130\, Kaunas\, Lithuania
CATEGORIES:Buriavimas
END:VEVENT
BEGIN:VEVENT
DTSTART;VALUE=DATE:20260619
DTEND;VALUE=DATE:20260621
DTSTAMP:20260421T212553
CREATED:20260313T123130Z
LAST-MODIFIED:20260313T123130Z
UID:4459-1781827200-1781999999@smbangputys.lt
SUMMARY:U19 ir U23 atrankinė regata į PČ
DESCRIPTION:
URL:https://smbangputys.lt/renginiai/u19-ir-u23-atrankine-regata-i-pc/
LOCATION:Trakai\, Lietuva\, Lithuania
CATEGORIES:Akademinis irklavimas
END:VEVENT
BEGIN:VEVENT
DTSTART;VALUE=DATE:20260620
DTEND;VALUE=DATE:20260625
DTSTAMP:20260421T212553
CREATED:20260312T115321Z
LAST-MODIFIED:20260312T115321Z
UID:4306-1781913600-1782345599@smbangputys.lt
SUMMARY:ILCA MTS ir ENERGA Nord Cup
DESCRIPTION:
URL:https://smbangputys.lt/renginiai/ilca-mts-ir-energa-nord-cup/
LOCATION:Gdanskas\, Lenkija\, Poland
CATEGORIES:Buriavimas
END:VEVENT
BEGIN:VEVENT
DTSTART;VALUE=DATE:20260625
DTEND;VALUE=DATE:20260629
DTSTAMP:20260421T212553
CREATED:20260312T115436Z
LAST-MODIFIED:20260312T115436Z
UID:4309-1782345600-1782691199@smbangputys.lt
SUMMARY:LR Vaikų\, jaunučių ir jaunimo buriavimo čempionatas
DESCRIPTION:Varžybų nuostatai
URL:https://smbangputys.lt/renginiai/lr-vaiku-jaunuciu-ir-jaunimo-buriavimo-cempionatas/
LOCATION:R. Kalantos 130\, Kaunas\, Lithuania
CATEGORIES:Buriavimas
END:VEVENT
BEGIN:VEVENT
DTSTART;VALUE=DATE:20260627
DTEND;VALUE=DATE:20260704
DTSTAMP:20260421T212553
CREATED:20260312T115633Z
LAST-MODIFIED:20260312T115633Z
UID:4313-1782518400-1783123199@smbangputys.lt
SUMMARY:ILCA MTS ir Gdynios Taurė
DESCRIPTION:
URL:https://smbangputys.lt/renginiai/ilca-mts-ir-gdynios-taure/
LOCATION:Gdynia\, Lenkija\, Poland
CATEGORIES:Buriavimas
END:VEVENT
BEGIN:VEVENT
DTSTART;VALUE=DATE:20260629
DTEND;VALUE=DATE:20260705
DTSTAMP:20260421T212553
CREATED:20260312T120038Z
LAST-MODIFIED:20260312T120038Z
UID:4318-1782691200-1783209599@smbangputys.lt
SUMMARY:Burlenčių MTS
DESCRIPTION:
URL:https://smbangputys.lt/renginiai/burlenciu-mts/
LOCATION:Kintai\, Lietuva\, Lithuania
CATEGORIES:Buriavimas
END:VEVENT
BEGIN:VEVENT
DTSTART;VALUE=DATE:20260629
DTEND;VALUE=DATE:20260705
DTSTAMP:20260421T212553
CREATED:20260313T094352Z
LAST-MODIFIED:20260313T094407Z
UID:4404-1782691200-1783209599@smbangputys.lt
SUMMARY:MTS prieš LT jaunučių čempionatą
DESCRIPTION:
URL:https://smbangputys.lt/renginiai/mts-pries-lt-jaunuciu-cempionata/
LOCATION:Trakai\, Lietuva\, Lithuania
CATEGORIES:Baidarių ir kanojų irklavimas
END:VEVENT
BEGIN:VEVENT
DTSTART;VALUE=DATE:20260701
DTEND;VALUE=DATE:20260703
DTSTAMP:20260421T212553
CREATED:20260313T131939Z
LAST-MODIFIED:20260313T131939Z
UID:4464-1782864000-1783036799@smbangputys.lt
SUMMARY:Kauno miesto jaunių irklavimo čempionatas
DESCRIPTION:
URL:https://smbangputys.lt/renginiai/kauno-miesto-jauniu-irklavimo-cempionatas-2/
LOCATION:Gervių g. 5\, Kaunas\, Kaunas
CATEGORIES:Akademinis irklavimas
END:VEVENT
BEGIN:VEVENT
DTSTART;VALUE=DATE:20260701
DTEND;VALUE=DATE:20260706
DTSTAMP:20260421T212553
CREATED:20260312T120148Z
LAST-MODIFIED:20260312T120148Z
UID:4321-1782864000-1783295999@smbangputys.lt
SUMMARY:Down town Sailing week / Baltic sea Trophy
DESCRIPTION:
URL:https://smbangputys.lt/renginiai/down-town-sailing-week-baltic-sea-trophy/
LOCATION:Helsinkis\, Suomija\, Finland
CATEGORIES:Buriavimas
END:VEVENT
BEGIN:VEVENT
DTSTART;VALUE=DATE:20260704
DTEND;VALUE=DATE:20260706
DTSTAMP:20260421T212553
CREATED:20260312T120432Z
LAST-MODIFIED:20260312T120432Z
UID:4325-1783123200-1783295999@smbangputys.lt
SUMMARY:XX Dusios regata
DESCRIPTION:
URL:https://smbangputys.lt/renginiai/xx-dusios-regata/
LOCATION:Dusia\, Lithuania
CATEGORIES:Buriavimas
END:VEVENT
BEGIN:VEVENT
DTSTART;VALUE=DATE:20260706
DTEND;VALUE=DATE:20260712
DTSTAMP:20260421T212553
CREATED:20260312T120729Z
LAST-MODIFIED:20260312T120729Z
UID:4331-1783296000-1783814399@smbangputys.lt
SUMMARY:Burlenčių MTS
DESCRIPTION:
URL:https://smbangputys.lt/renginiai/burlenciu-mts-2/
LOCATION:Kintai\, Lietuva\, Lithuania
CATEGORIES:Buriavimas
END:VEVENT
BEGIN:VEVENT
DTSTART;VALUE=DATE:20260708
DTEND;VALUE=DATE:20260710
DTSTAMP:20260421T212553
CREATED:20260313T132052Z
LAST-MODIFIED:20260313T132052Z
UID:4466-1783468800-1783641599@smbangputys.lt
SUMMARY:Kauno miesto jaunučių irklavimo čempionatas
DESCRIPTION:
URL:https://smbangputys.lt/renginiai/kauno-miesto-jaunuciu-irklavimo-cempionatas-2/
LOCATION:Gervių g. 5\, Kaunas\, Kaunas
CATEGORIES:Akademinis irklavimas
END:VEVENT
BEGIN:VEVENT
DTSTART;VALUE=DATE:20260710
DTEND;VALUE=DATE:20260713
DTSTAMP:20260421T212553
CREATED:20260313T094523Z
LAST-MODIFIED:20260313T120520Z
UID:4406-1783641600-1783900799@smbangputys.lt
SUMMARY:Lietuvos jaunučių čempionatas – jaunių taurė
DESCRIPTION:
URL:https://smbangputys.lt/renginiai/lietuvos-jaunuciu-cempionatas-jauniu-taure/
LOCATION:Trakai\, Lietuva\, Lithuania
CATEGORIES:Baidarių ir kanojų irklavimas
END:VEVENT
BEGIN:VEVENT
DTSTART;VALUE=DATE:20260711
DTEND;VALUE=DATE:20260713
DTSTAMP:20260421T212553
CREATED:20260312T120545Z
LAST-MODIFIED:20260312T120545Z
UID:4328-1783728000-1783900799@smbangputys.lt
SUMMARY:Tarptautinė Rėkyvos regata / O. Truchano taurė
DESCRIPTION:
URL:https://smbangputys.lt/renginiai/tarptautine-rekyvos-regata-o-truchano-taure/
LOCATION:Šiauliai\, Lietuva\, Lithuania
CATEGORIES:Buriavimas
END:VEVENT
BEGIN:VEVENT
DTSTART;VALUE=DATE:20260711
DTEND;VALUE=DATE:20260713
DTSTAMP:20260421T212553
CREATED:20260313T132148Z
LAST-MODIFIED:20260313T132148Z
UID:4468-1783728000-1783900799@smbangputys.lt
SUMMARY:Atviras Lietuvos U19 ir U23 irklavimo čempionatas
DESCRIPTION:
URL:https://smbangputys.lt/renginiai/atviras-lietuvos-u19-ir-u23-irklavimo-cempionatas-2/
LOCATION:Gervių g. 5\, Kaunas\, Kaunas
CATEGORIES:Akademinis irklavimas
END:VEVENT
BEGIN:VEVENT
DTSTART;VALUE=DATE:20260713
DTEND;VALUE=DATE:20260714
DTSTAMP:20260421T212553
CREATED:20260312T121137Z
LAST-MODIFIED:20260312T121212Z
UID:4333-1783900800-1783987199@smbangputys.lt
SUMMARY:Kauno miesto vaikų buriavimo taurė (I etapas)
DESCRIPTION:Varžybų nuostatai
URL:https://smbangputys.lt/renginiai/kauno-miesto-vaiku-buriavimo-taure-i-e/
LOCATION:R. Kalantos 130\, Kaunas\, Lithuania
CATEGORIES:Buriavimas
END:VEVENT
BEGIN:VEVENT
DTSTART;VALUE=DATE:20260714
DTEND;VALUE=DATE:20260717
DTSTAMP:20260421T212553
CREATED:20260312T121327Z
LAST-MODIFIED:20260312T121327Z
UID:4336-1783987200-1784246399@smbangputys.lt
SUMMARY:Kauno miesto jaunių buriavimo čempionatas
DESCRIPTION:Varžybų nuostatai
URL:https://smbangputys.lt/renginiai/kauno-miesto-jauniu-buriavimo-cempionatas/
LOCATION:R. Kalantos 130\, Kaunas\, Lithuania
CATEGORIES:Buriavimas
END:VEVENT
BEGIN:VEVENT
DTSTART;VALUE=DATE:20260716
DTEND;VALUE=DATE:20260720
DTSTAMP:20260421T212553
CREATED:20260312T121457Z
LAST-MODIFIED:20260312T121457Z
UID:4338-1784160000-1784505599@smbangputys.lt
SUMMARY:49 Spinaker regatta
DESCRIPTION:
URL:https://smbangputys.lt/renginiai/49-spinaker-regatta/
LOCATION:Talinas\, Estija\, Estonia
CATEGORIES:Buriavimas
END:VEVENT
BEGIN:VEVENT
DTSTART;VALUE=DATE:20260720
DTEND;VALUE=DATE:20260729
DTSTAMP:20260421T212553
CREATED:20260312T133953Z
LAST-MODIFIED:20260312T133953Z
UID:4341-1784505600-1785283199@smbangputys.lt
SUMMARY:ILCA MTS
DESCRIPTION:
URL:https://smbangputys.lt/renginiai/ilca-mts/
LOCATION:Talinas\, Estija\, Estonia
CATEGORIES:Buriavimas
END:VEVENT
BEGIN:VEVENT
DTSTART;VALUE=DATE:20260722
DTEND;VALUE=DATE:20260724
DTSTAMP:20260421T212553
CREATED:20260313T132246Z
LAST-MODIFIED:20260313T132246Z
UID:4470-1784678400-1784851199@smbangputys.lt
SUMMARY:Kauno miesto jaunimo irklavimo čempionatas
DESCRIPTION:
URL:https://smbangputys.lt/renginiai/kauno-miesto-jaunimo-irklavimo-cempionatas/
LOCATION:Gervių g. 5\, Kaunas\, Kaunas
CATEGORIES:Akademinis irklavimas
END:VEVENT
BEGIN:VEVENT
DTSTART;VALUE=DATE:20260724
DTEND;VALUE=DATE:20260726
DTSTAMP:20260421T212553
CREATED:20260313T120644Z
LAST-MODIFIED:20260313T120644Z
UID:4408-1784851200-1785023999@smbangputys.lt
SUMMARY:Kauno miesto čempionatas
DESCRIPTION:
URL:https://smbangputys.lt/renginiai/kauno-miesto-cempionatas/
LOCATION:Gervių g. 5\, Kaunas\, Kaunas
CATEGORIES:Baidarių ir kanojų irklavimas
END:VEVENT
BEGIN:VEVENT
DTSTART;VALUE=DATE:20260725
DTEND;VALUE=DATE:20260727
DTSTAMP:20260421T212553
CREATED:20260313T132346Z
LAST-MODIFIED:20260313T132346Z
UID:4472-1784937600-1785110399@smbangputys.lt
SUMMARY:Lietuvos ir Baltijos šalių paplūdimio sprinto irklavimo čempionatas
DESCRIPTION:
URL:https://smbangputys.lt/renginiai/lietuvos-ir-baltijos-saliu-papludimio-sprinto-irklavimo-cempionatas-2/
LOCATION:Klaipėda\, Lietuva\, Lithuania
CATEGORIES:Akademinis irklavimas
END:VEVENT
BEGIN:VEVENT
DTSTART;VALUE=DATE:20260730
DTEND;VALUE=DATE:20260804
DTSTAMP:20260421T212553
CREATED:20260313T132523Z
LAST-MODIFIED:20260313T132523Z
UID:4477-1785369600-1785801599@smbangputys.lt
SUMMARY:MTS prieš atrankines į Pasaulio jaunimo pakrančių sprinto žaidynes
DESCRIPTION:
URL:https://smbangputys.lt/renginiai/mts-pries-atrankines-i-pasaulio-jaunimo-pakranciu-sprinto-zaidynes/
LOCATION:Klaipėda\, Lietuva\, Lithuania
CATEGORIES:Akademinis irklavimas
END:VEVENT
BEGIN:VEVENT
DTSTART;VALUE=DATE:20260731
DTEND;VALUE=DATE:20260803
DTSTAMP:20260421T212553
CREATED:20260312T134038Z
LAST-MODIFIED:20260312T134038Z
UID:4343-1785456000-1785715199@smbangputys.lt
SUMMARY:„Baltic CUP Estonia“ burlenčių varžybos
DESCRIPTION:
URL:https://smbangputys.lt/renginiai/baltic-cup-estonia-burlenciu-varzybos/
LOCATION:Talinas\, Estija\, Estonia
CATEGORIES:Buriavimas
END:VEVENT
BEGIN:VEVENT
DTSTART;VALUE=DATE:20260731
DTEND;VALUE=DATE:20260803
DTSTAMP:20260421T212553
CREATED:20260313T120730Z
LAST-MODIFIED:20260313T120849Z
UID:4410-1785456000-1785715199@smbangputys.lt
SUMMARY:Lietuvos BKI čempionatas
DESCRIPTION:
URL:https://smbangputys.lt/renginiai/lietuvos-bki-cempionatas/
LOCATION:Trakai\, Lietuva\, Lithuania
CATEGORIES:Baidarių ir kanojų irklavimas
END:VEVENT
BEGIN:VEVENT
DTSTART;VALUE=DATE:20260801
DTEND;VALUE=DATE:20260803
DTSTAMP:20260421T212553
CREATED:20260312T134205Z
LAST-MODIFIED:20260312T134205Z
UID:4345-1785542400-1785715199@smbangputys.lt
SUMMARY:14-oji Palūšės buriavimo regata
DESCRIPTION:
URL:https://smbangputys.lt/renginiai/14-oji-paluses-buriavimo-regata-2/
LOCATION:Palūšė\, Lietuva\, Lithuania
CATEGORIES:Buriavimas
END:VEVENT
BEGIN:VEVENT
DTSTART;VALUE=DATE:20260804
DTEND;VALUE=DATE:20260805
DTSTAMP:20260421T212553
CREATED:20260313T132431Z
LAST-MODIFIED:20260313T132431Z
UID:4475-1785801600-1785887999@smbangputys.lt
SUMMARY:Kauno miesto irklavimo vilčių varžybos
DESCRIPTION:
URL:https://smbangputys.lt/renginiai/kauno-miesto-irklavimo-vilciu-varzybos-2/
LOCATION:Gervių g. 5\, Kaunas\, Kaunas
CATEGORIES:Akademinis irklavimas
END:VEVENT
END:VCALENDAR