BEGIN:VCALENDAR
VERSION:2.0
PRODID:-//Kauno sporto mokykla Bangpūtys - ECPv6.14.2//NONSGML v1.0//EN
CALSCALE:GREGORIAN
METHOD:PUBLISH
X-WR-CALNAME:Kauno sporto mokykla Bangpūtys
X-ORIGINAL-URL:https://smbangputys.lt
X-WR-CALDESC:Kauno sporto mokykla Bangpūtys renginiai
REFRESH-INTERVAL;VALUE=DURATION:PT1H
X-Robots-Tag:noindex
X-PUBLISHED-TTL:PT1H
BEGIN:VTIMEZONE
TZID:UTC
BEGIN:STANDARD
TZOFFSETFROM:+0000
TZOFFSETTO:+0000
TZNAME:UTC
DTSTART:20250101T000000
END:STANDARD
END:VTIMEZONE
BEGIN:VEVENT
DTSTART;VALUE=DATE:20250801
DTEND;VALUE=DATE:20250802
DTSTAMP:20260420T163955
CREATED:20250619T112755Z
LAST-MODIFIED:20250619T112755Z
UID:3195-1754006400-1754092799@smbangputys.lt
SUMMARY:Kauno miesto irklavimo vilčių varžybos
DESCRIPTION:
URL:https://smbangputys.lt/renginiai/kauno-miesto-irklavimo-vilciu-varzybos/
CATEGORIES:Akademinis irklavimas
END:VEVENT
BEGIN:VEVENT
DTSTART;VALUE=DATE:20250730
DTEND;VALUE=DATE:20250801
DTSTAMP:20260420T163955
CREATED:20250619T112702Z
LAST-MODIFIED:20250619T112702Z
UID:3193-1753833600-1754006399@smbangputys.lt
SUMMARY:Kauno miesto irklavimo čempionatas
DESCRIPTION:
URL:https://smbangputys.lt/renginiai/kauno-miesto-irklavimo-cempionatas/
LOCATION:Gervių g. 5\, Kaunas\, Kaunas
CATEGORIES:Akademinis irklavimas
END:VEVENT
BEGIN:VEVENT
DTSTART;VALUE=DATE:20250721
DTEND;VALUE=DATE:20250726
DTSTAMP:20260420T163955
CREATED:20250619T112604Z
LAST-MODIFIED:20250619T112604Z
UID:3190-1753056000-1753487999@smbangputys.lt
SUMMARY:Mokomųjų treniruočių stovykla
DESCRIPTION:
URL:https://smbangputys.lt/renginiai/mokomuju-treniruociu-stovykla/
LOCATION:Daugai
CATEGORIES:Akademinis irklavimas
END:VEVENT
BEGIN:VEVENT
DTSTART;VALUE=DATE:20250719
DTEND;VALUE=DATE:20250720
DTSTAMP:20260420T163955
CREATED:20250619T112500Z
LAST-MODIFIED:20250619T112500Z
UID:3188-1752883200-1752969599@smbangputys.lt
SUMMARY:Kauno miesto pakrančių irklavimo sprinto čempionatas
DESCRIPTION:
URL:https://smbangputys.lt/renginiai/kauno-miesto-pakranciu-irklavimo-sprinto-cempionatas/
LOCATION:Gervių g. 5\, Kaunas\, Kaunas
CATEGORIES:Akademinis irklavimas
END:VEVENT
BEGIN:VEVENT
DTSTART;VALUE=DATE:20250712
DTEND;VALUE=DATE:20250714
DTSTAMP:20260420T163955
CREATED:20250619T112400Z
LAST-MODIFIED:20250619T112400Z
UID:3186-1752278400-1752451199@smbangputys.lt
SUMMARY:Atviras Lietuvos U19 ir U23 irklavimo čempionatas
DESCRIPTION:
URL:https://smbangputys.lt/renginiai/atviras-lietuvos-u19-ir-u23-irklavimo-cempionatas/
LOCATION:Gervių g. 5\, Kaunas\, Kaunas
CATEGORIES:Akademinis irklavimas
END:VEVENT
BEGIN:VEVENT
DTSTART;VALUE=DATE:20250702
DTEND;VALUE=DATE:20250704
DTSTAMP:20260420T163955
CREATED:20250619T112307Z
LAST-MODIFIED:20250619T112307Z
UID:3183-1751414400-1751587199@smbangputys.lt
SUMMARY:Kauno miesto jaunių irklavimo čempionatas
DESCRIPTION:
URL:https://smbangputys.lt/renginiai/kauno-miesto-jauniu-irklavimo-cempionatas/
LOCATION:Gervių g. 5\, Kaunas\, Kaunas
CATEGORIES:Akademinis irklavimas
END:VEVENT
BEGIN:VEVENT
DTSTART;VALUE=DATE:20250627
DTEND;VALUE=DATE:20250630
DTSTAMP:20260420T163955
CREATED:20250619T112127Z
LAST-MODIFIED:20250619T112127Z
UID:3180-1750982400-1751241599@smbangputys.lt
SUMMARY:Tarptautinė 63-oji regata „Gintariniai irklai“
DESCRIPTION:
URL:https://smbangputys.lt/renginiai/tarptautine-63-oji-regata-gintariniai-irklai/
LOCATION:Trakai
CATEGORIES:Akademinis irklavimas
END:VEVENT
BEGIN:VEVENT
DTSTART;VALUE=DATE:20250620
DTEND;VALUE=DATE:20250622
DTSTAMP:20260420T163955
CREATED:20250619T111704Z
LAST-MODIFIED:20250619T111704Z
UID:3178-1750377600-1750550399@smbangputys.lt
SUMMARY:U19/U23 atrankinė regata į Pasaulio irklavimo čempionatą
DESCRIPTION:
URL:https://smbangputys.lt/renginiai/u19-u23-atrankine-regata-i-pasaulio-irklavimo-cempionata/
CATEGORIES:Akademinis irklavimas
END:VEVENT
END:VCALENDAR